| Back to the "Multiple platform build/check report" |
| Package 75/77 | Hostname | OS / Arch | BUILD | CHECK | BUILD BIN | ||||
| yeastExpData 0.9.17 R. Gentleman
| wilson2 | Linux (openSUSE 11.1) / x86_64 | OK | WARNINGS | |||||
| pitt | Mac OS X Tiger (10.4.11) / i386 | OK | WARNINGS | OK | |||||
| pelham | Mac OS X Leopard (10.5.8) / i386 | OK | WARNINGS | [ OK ] |
| Package: yeastExpData |
| Version: 0.9.17 |
| Command: /Users/biocbuild/BBS/utils/build-universal.sh yeastExpData_0.9.17.tar.gz /Library/Frameworks/R.framework/Versions/2.10/Resources/bin/R yeastExpData.buildbin-libdir |
| StartedAt: 2010-04-02 15:37:34 -0700 (Fri, 02 Apr 2010) |
| EndedAt: 2010-04-02 15:37:37 -0700 (Fri, 02 Apr 2010) |
| EllapsedTime: 3.5 seconds |
| RetCode: 0 |
| Status: OK |
| PackageFile: yeastExpData_0.9.17.tgz |
| PackageFileSize: 930.9 KiB |
INSTALLATION WITH 'R CMD INSTALL --preclean --library=yeastExpData.buildbin-libdir yeastExpData_0.9.17.tar.gz'
* installing *source* package ‘yeastExpData’ ...
** data
** inst
** help
*** installing help indices
** building package indices ...
* DONE (yeastExpData)