| Back to the "Multiple platform build/check report" |
| Package 57/77 | Hostname | OS / Arch | BUILD | CHECK | BUILD BIN | ||||
| mouse4302barcodevecs 0.0.3 Matthew N. McCall
| wilson2 | Linux (openSUSE 11.1) / x86_64 | OK | OK | |||||
| pitt | Mac OS X Tiger (10.4.11) / i386 | OK | OK | [ OK ] | |||||
| pelham | Mac OS X Leopard (10.5.8) / i386 | OK | OK | OK |
| Package: mouse4302barcodevecs |
| Version: 0.0.3 |
| Command: /Users/biocbuild/BBS/utils/build-universal.sh mouse4302barcodevecs_0.0.3.tar.gz /Library/Frameworks/R.framework/Versions/2.10/Resources/bin/R mouse4302barcodevecs.buildbin-libdir |
| StartedAt: 2010-04-02 15:36:52 -0700 (Fri, 02 Apr 2010) |
| EndedAt: 2010-04-02 15:36:54 -0700 (Fri, 02 Apr 2010) |
| EllapsedTime: 2.0 seconds |
| RetCode: 0 |
| Status: OK |
| PackageFile: mouse4302barcodevecs_0.0.3.tgz |
| PackageFileSize: 1 MiB |
INSTALLATION WITH 'R CMD INSTALL --preclean --library=mouse4302barcodevecs.buildbin-libdir mouse4302barcodevecs_0.0.3.tar.gz'
* installing *source* package ‘mouse4302barcodevecs’ ...
** data
** help
*** installing help indices
** building package indices ...
* DONE (mouse4302barcodevecs)