Back to the "Multiple platform build/check report" |
Package 44/77 | Hostname | OS / Arch | BUILD | CHECK | BUILD BIN | ||||
humanStemCell 0.2.3 R. Gentleman
| wilson2 | Linux (openSUSE 11.1) / x86_64 | OK | OK | |||||
pitt | Mac OS X Tiger (10.4.11) / i386 | OK | OK | [ OK ] | |||||
pelham | Mac OS X Leopard (10.5.8) / i386 | OK | OK | OK |
Package: humanStemCell |
Version: 0.2.3 |
Command: /Users/biocbuild/BBS/utils/build-universal.sh humanStemCell_0.2.3.tar.gz /Library/Frameworks/R.framework/Versions/2.10/Resources/bin/R humanStemCell.buildbin-libdir |
StartedAt: 2010-04-02 15:33:38 -0700 (Fri, 02 Apr 2010) |
EndedAt: 2010-04-02 15:34:28 -0700 (Fri, 02 Apr 2010) |
EllapsedTime: 50.3 seconds |
RetCode: 0 |
Status: OK |
PackageFile: humanStemCell_0.2.3.tgz |
PackageFileSize: 31.39 MiB |
INSTALLATION WITH 'R CMD INSTALL --preclean --library=humanStemCell.buildbin-libdir humanStemCell_0.2.3.tar.gz' * installing *source* package ‘humanStemCell’ ... ** data ** inst ** help *** installing help indices ** building package indices ... * DONE (humanStemCell)