hmyriB36 0.99.4 Vincent Carey
 | Snapshot Date: 2010-04-02 12:27:31 -0700 (Fri, 02 Apr 2010) |  | URL: https://hedgehog.fhcrc.org/bioc-data/trunk/experiment/pkgs/hmyriB36 |  | Last Changed Rev: 1050 / Revision: 1201 |  | Last Changed Date: 2009-10-13 22:44:21 -0700 (Tue, 13 Oct 2009) |  
  | wilson2  | Linux (openSUSE 11.1) / x86_64  |  OK  |  OK  |  | 
| pitt  | Mac OS X Tiger (10.4.11) / i386  |  OK  |  OK  |  OK  | 
| pelham  | Mac OS X Leopard (10.5.8) / i386  | [ OK ] |  OK  |  OK  | 
* checking for file 'hmyriB36/DESCRIPTION' ... OK
* preparing 'hmyriB36':
* checking DESCRIPTION meta-information ... OK
* removing junk files
* checking for LF line-endings in source and make files
* checking for empty or unneeded directories
WARNING: directory 'hmyriB36/inst/extdata' is empty
* building 'hmyriB36_0.99.4.tar.gz'