| Back to the "Multiple platform build/check report" |
| Package 37/77 | Hostname | OS / Arch | BUILD | CHECK | BUILD BIN | ||||
| hgu133abarcodevecs 0.0.3 Matthew N. McCall
| wilson2 | Linux (openSUSE 11.1) / x86_64 | OK | OK | |||||
| pitt | Mac OS X Tiger (10.4.11) / i386 | OK | OK | [ OK ] | |||||
| pelham | Mac OS X Leopard (10.5.8) / i386 | OK | OK | OK |
| Package: hgu133abarcodevecs |
| Version: 0.0.3 |
| Command: /Users/biocbuild/BBS/utils/build-universal.sh hgu133abarcodevecs_0.0.3.tar.gz /Library/Frameworks/R.framework/Versions/2.10/Resources/bin/R hgu133abarcodevecs.buildbin-libdir |
| StartedAt: 2010-04-02 15:33:16 -0700 (Fri, 02 Apr 2010) |
| EndedAt: 2010-04-02 15:33:24 -0700 (Fri, 02 Apr 2010) |
| EllapsedTime: 7.8 seconds |
| RetCode: 0 |
| Status: OK |
| PackageFile: hgu133abarcodevecs_0.0.3.tgz |
| PackageFileSize: 503.7 KiB |
INSTALLATION WITH 'R CMD INSTALL --preclean --library=hgu133abarcodevecs.buildbin-libdir hgu133abarcodevecs_0.0.3.tar.gz'
* installing *source* package ‘hgu133abarcodevecs’ ...
** data
** help
*** installing help indices
** building package indices ...
* DONE (hgu133abarcodevecs)