| Back to the "Multiple platform build/check report" |
| Package 33/77 | Hostname | OS / Arch | BUILD | CHECK | BUILD BIN | ||||
| hapmapsnp5 1.3.3 Benilton Carvalho
| wilson2 | Linux (openSUSE 11.1) / x86_64 | OK | OK | |||||
| pitt | Mac OS X Tiger (10.4.11) / i386 | OK | OK | [ OK ] | |||||
| pelham | Mac OS X Leopard (10.5.8) / i386 | OK | OK | OK |
| Package: hapmapsnp5 |
| Version: 1.3.3 |
| Command: /Users/biocbuild/BBS/utils/build-universal.sh hapmapsnp5_1.3.3.tar.gz /Library/Frameworks/R.framework/Versions/2.10/Resources/bin/R hapmapsnp5.buildbin-libdir |
| StartedAt: 2010-04-02 15:31:25 -0700 (Fri, 02 Apr 2010) |
| EndedAt: 2010-04-02 15:33:16 -0700 (Fri, 02 Apr 2010) |
| EllapsedTime: 111.1 seconds |
| RetCode: 0 |
| Status: OK |
| PackageFile: hapmapsnp5_1.3.3.tgz |
| PackageFileSize: 61.66 MiB |
INSTALLATION WITH 'R CMD INSTALL --preclean --library=hapmapsnp5.buildbin-libdir hapmapsnp5_1.3.3.tar.gz'
* installing *source* package ‘hapmapsnp5’ ...
** R
** inst
** preparing package for lazy loading
** help
*** installing help indices
** building package indices ...
* DONE (hapmapsnp5)