| Back to the "Multiple platform build/check report" |
| Package 22/77 | Hostname | OS / Arch | BUILD | CHECK | BUILD BIN | ||||
| gaschYHS 1.0.3 Vince Carey
| wilson2 | Linux (openSUSE 11.1) / x86_64 | OK | OK | |||||
| pitt | Mac OS X Tiger (10.4.11) / i386 | OK | OK | OK | |||||
| pelham | Mac OS X Leopard (10.5.8) / i386 | OK | OK | [ OK ] |
| Package: gaschYHS |
| Version: 1.0.3 |
| Command: /Users/biocbuild/BBS/utils/build-universal.sh gaschYHS_1.0.3.tar.gz /Library/Frameworks/R.framework/Versions/2.10/Resources/bin/R gaschYHS.buildbin-libdir |
| StartedAt: 2010-04-02 15:26:34 -0700 (Fri, 02 Apr 2010) |
| EndedAt: 2010-04-02 15:26:36 -0700 (Fri, 02 Apr 2010) |
| EllapsedTime: 2.8 seconds |
| RetCode: 0 |
| Status: OK |
| PackageFile: gaschYHS_1.0.3.tgz |
| PackageFileSize: 1.76 MiB |
INSTALLATION WITH 'R CMD INSTALL --preclean --library=gaschYHS.buildbin-libdir gaschYHS_1.0.3.tar.gz'
* installing *source* package ‘gaschYHS’ ...
** data
** help
*** installing help indices
** building package indices ...
* DONE (gaschYHS)