| Back to the "Multiple platform build/check report" |
| Package 15/77 | Hostname | OS / Arch | BUILD | CHECK | BUILD BIN | ||||
| ecoliLeucine 1.2.5 Laurent Gautier
| wilson2 | Linux (openSUSE 11.1) / x86_64 | OK | OK | |||||
| pitt | Mac OS X Tiger (10.4.11) / i386 | OK | OK | OK | |||||
| pelham | Mac OS X Leopard (10.5.8) / i386 | OK | OK | [ OK ] |
| Package: ecoliLeucine |
| Version: 1.2.5 |
| Command: /Users/biocbuild/BBS/utils/build-universal.sh ecoliLeucine_1.2.5.tar.gz /Library/Frameworks/R.framework/Versions/2.10/Resources/bin/R ecoliLeucine.buildbin-libdir |
| StartedAt: 2010-04-02 15:24:26 -0700 (Fri, 02 Apr 2010) |
| EndedAt: 2010-04-02 15:24:31 -0700 (Fri, 02 Apr 2010) |
| EllapsedTime: 5.8 seconds |
| RetCode: 0 |
| Status: OK |
| PackageFile: ecoliLeucine_1.2.5.tgz |
| PackageFileSize: 5.94 MiB |
INSTALLATION WITH 'R CMD INSTALL --preclean --library=ecoliLeucine.buildbin-libdir ecoliLeucine_1.2.5.tar.gz'
* installing *source* package ‘ecoliLeucine’ ...
** data
** help
*** installing help indices
** building package indices ...
* DONE (ecoliLeucine)