| Back to the "Multiple platform build/check report" |
| Package 7/77 | Hostname | OS / Arch | BUILD | CHECK | BUILD BIN | ||||
| bronchialIL13 1.0-6 Vince Carey
| wilson2 | Linux (openSUSE 11.1) / x86_64 | OK | OK | |||||
| pitt | Mac OS X Tiger (10.4.11) / i386 | OK | OK | [ OK ] | |||||
| pelham | Mac OS X Leopard (10.5.8) / i386 | OK | OK | OK |
| Package: bronchialIL13 |
| Version: 1.0-6 |
| Command: /Users/biocbuild/BBS/utils/build-universal.sh bronchialIL13_1.0-6.tar.gz /Library/Frameworks/R.framework/Versions/2.10/Resources/bin/R bronchialIL13.buildbin-libdir |
| StartedAt: 2010-04-02 15:21:37 -0700 (Fri, 02 Apr 2010) |
| EndedAt: 2010-04-02 15:22:17 -0700 (Fri, 02 Apr 2010) |
| EllapsedTime: 40.4 seconds |
| RetCode: 0 |
| Status: OK |
| PackageFile: bronchialIL13_1.0-6.tgz |
| PackageFileSize: 69.13 MiB |
INSTALLATION WITH 'R CMD INSTALL --preclean --library=bronchialIL13.buildbin-libdir bronchialIL13_1.0-6.tar.gz'
* installing *source* package ‘bronchialIL13’ ...
** data
** inst
** help
*** installing help indices
** building package indices ...
* DONE (bronchialIL13)