XhybCasneuf 1.0.6 Tineke Casneuf
 | Snapshot Date: 2010-04-02 12:27:31 -0700 (Fri, 02 Apr 2010) |  | URL: https://hedgehog.fhcrc.org/bioc-data/trunk/experiment/pkgs/XhybCasneuf |  | Last Changed Rev: 986 / Revision: 1201 |  | Last Changed Date: 2009-09-15 12:41:50 -0700 (Tue, 15 Sep 2009) |  
  | wilson2  | Linux (openSUSE 11.1) / x86_64  |  OK  |  OK  |  | 
| pitt  | Mac OS X Tiger (10.4.11) / i386  | [ OK ] |  OK  |  OK  | 
| pelham  | Mac OS X Leopard (10.5.8) / i386  |  OK  |  OK  |  OK  | 
* checking for file 'XhybCasneuf/DESCRIPTION' ... OK
* preparing 'XhybCasneuf':
* checking DESCRIPTION meta-information ... OK
* checking whether 'INDEX' is up-to-date ... NO
* use '--force' to overwrite the existing 'INDEX'
* installing the package to re-build vignettes
* installing *source* package ‘XhybCasneuf’ ...
** R
** data
** inst
** preparing package for lazy loading
Loading required package: Biobase
Welcome to Bioconductor
  Vignettes contain introductory material. To view, type
  'openVignette()'. To cite Bioconductor, see
  'citation("Biobase")' and for packages 'citation(pkgname)'.
Attaching package: 'tinesath1cdf'
	The following object(s) are masked from package:ath1121501cdf :
	 i2xy,
	 xy2i 
** help
*** installing help indices
** building package indices ...
* DONE (XhybCasneuf)
* creating vignettes ... OK
* removing junk files
* checking for LF line-endings in source and make files
* checking for empty or unneeded directories
* building 'XhybCasneuf_1.0.6.tar.gz'