| Back to the "Multiple platform build/check report" | A B C D E F G H I J K L M N O P Q R [S] T U V W X Y Z |
| Package 328/353 | Hostname | OS / Arch | BUILD | CHECK | BUILD BIN | ||||
| splots 1.12.0 Oleg Sklyar
| wilson2 | Linux (openSUSE 11.1) / x86_64 | OK | OK | |||||
| liverpool | Windows Server 2003 R2 (32-bit) / x64 | OK | OK | OK | |||||
| pitt | Mac OS X Tiger (10.4.11) / i386 | OK | OK | OK | |||||
| pelham | Mac OS X Leopard (10.5.8) / i386 | OK | OK | [ OK ] |
| Package: splots |
| Version: 1.12.0 |
| Command: /Users/biocbuild/BBS/utils/build-universal.sh splots_1.12.0.tar.gz /Library/Frameworks/R.framework/Versions/2.10/Resources/bin/R splots.buildbin-libdir |
| StartedAt: 2010-04-03 07:40:44 -0700 (Sat, 03 Apr 2010) |
| EndedAt: 2010-04-03 07:40:46 -0700 (Sat, 03 Apr 2010) |
| EllapsedTime: 1.8 seconds |
| RetCode: 0 |
| Status: OK |
| PackageFile: splots_1.12.0.tgz |
| PackageFileSize: 33.8 KiB |
INSTALLATION WITH 'R CMD INSTALL --preclean --library=splots.buildbin-libdir splots_1.12.0.tar.gz'
* installing *source* package ‘splots’ ...
** R
** inst
** preparing package for lazy loading
** help
*** installing help indices
** building package indices ...
* DONE (splots)