| Back to the "Multiple platform build/check report" | A B C D E F G H I J K L M N O [P] Q R S T U V W X Y Z |
| Package 264/353 | Hostname | OS / Arch | BUILD | CHECK | BUILD BIN | ||||
| puma 1.12.0 Richard Pearson
| wilson2 | Linux (openSUSE 11.1) / x86_64 | OK | OK | |||||
| liverpool | Windows Server 2003 R2 (32-bit) / x64 | OK | OK | OK | |||||
| pitt | Mac OS X Tiger (10.4.11) / i386 | [ OK ] | OK | OK | |||||
| pelham | Mac OS X Leopard (10.5.8) / i386 | OK | OK | OK |
| Package: puma |
| Version: 1.12.0 |
| Command: /Library/Frameworks/R.framework/Versions/2.10/Resources/bin/R CMD build puma |
| StartedAt: 2010-04-03 02:52:14 -0700 (Sat, 03 Apr 2010) |
| EndedAt: 2010-04-03 02:52:17 -0700 (Sat, 03 Apr 2010) |
| EllapsedTime: 2.8 seconds |
| RetCode: 0 |
| Status: OK |
| PackageFile: puma_1.12.0.tar.gz |
| PackageFileSize: 3.212 MiB |
* checking for file 'puma/DESCRIPTION' ... OK * preparing 'puma': * checking DESCRIPTION meta-information ... OK * cleaning src * removing junk files * checking for LF line-endings in source and make files * checking for empty or unneeded directories * building 'puma_1.12.0.tar.gz'