| Back to the "Multiple platform build/check report" | A B C D E F G H I J K L M N O [P] Q R S T U V W X Y Z | 
| Package 254/353 | Hostname | OS / Arch | BUILD | CHECK | BUILD BIN | ||||
| pkgDepTools 1.12.0 Seth Falcon 
 | wilson2 | Linux (openSUSE 11.1) / x86_64 | OK | OK | |||||
| liverpool | Windows Server 2003 R2 (32-bit) / x64 | OK | OK | OK | |||||
| pitt | Mac OS X Tiger (10.4.11) / i386 | OK | OK | [ OK ] | |||||
| pelham | Mac OS X Leopard (10.5.8) / i386 | OK | OK | OK | 
| Package: pkgDepTools | 
| Version: 1.12.0 | 
| Command: /Users/biocbuild/BBS/utils/build-universal.sh pkgDepTools_1.12.0.tar.gz /Library/Frameworks/R.framework/Versions/2.10/Resources/bin/R pkgDepTools.buildbin-libdir | 
| StartedAt: 2010-04-03 07:50:11 -0700 (Sat, 03 Apr 2010) | 
| EndedAt: 2010-04-03 07:50:14 -0700 (Sat, 03 Apr 2010) | 
| EllapsedTime: 3.2 seconds | 
| RetCode: 0 | 
| Status: OK | 
| PackageFile: pkgDepTools_1.12.0.tgz | 
| PackageFileSize: 127 KiB | 
                INSTALLATION WITH 'R CMD INSTALL --preclean --library=pkgDepTools.buildbin-libdir pkgDepTools_1.12.0.tar.gz'
* installing *source* package ‘pkgDepTools’ ...
** R
** inst
** preparing package for lazy loading
** help
*** installing help indices
** building package indices ...
* DONE (pkgDepTools)