| Back to the "Multiple platform build/check report" | A B C D E F G H I J K L [M] N O P Q R S T U V W X Y Z | 
| Package 198/353 | Hostname | OS / Arch | BUILD | CHECK | BUILD BIN | ||||
| maDB 1.18.0 Johannes Rainer 
 | wilson2 | Linux (openSUSE 11.1) / x86_64 | OK | OK | |||||
| liverpool | Windows Server 2003 R2 (32-bit) / x64 | N O T S U P P O R T E D | |||||||
| pitt | Mac OS X Tiger (10.4.11) / i386 | OK | OK | OK | |||||
| pelham | Mac OS X Leopard (10.5.8) / i386 | [ OK ] | OK | OK | |||||
| Package: maDB | 
| Version: 1.18.0 | 
| Command: /Library/Frameworks/R.framework/Versions/2.10/Resources/bin/R CMD build maDB | 
| StartedAt: 2010-04-03 01:49:02 -0700 (Sat, 03 Apr 2010) | 
| EndedAt: 2010-04-03 01:49:03 -0700 (Sat, 03 Apr 2010) | 
| EllapsedTime: 1.8 seconds | 
| RetCode: 0 | 
| Status: OK | 
| PackageFile: maDB_1.18.0.tar.gz | 
| PackageFileSize: 498.1 KiB | 
* checking for file 'maDB/DESCRIPTION' ... OK * preparing 'maDB': * checking DESCRIPTION meta-information ... OK * removing junk files * checking for LF line-endings in source and make files * checking for empty or unneeded directories * building 'maDB_1.18.0.tar.gz'