Back to the "Multiple platform build/check report" | A B C D [E] F G H I J K L M N O P Q R S T U V W X Y Z |
Package 107/353 | Hostname | OS / Arch | BUILD | CHECK | BUILD BIN | ||||
explorase 1.10.0 Michael Lawrence
| wilson2 | Linux (openSUSE 11.1) / x86_64 | OK | OK | |||||
liverpool | Windows Server 2003 R2 (32-bit) / x64 | OK | OK | OK | |||||
pitt | Mac OS X Tiger (10.4.11) / i386 | N O T S U P P O R T E D | |||||||
pelham | Mac OS X Leopard (10.5.8) / i386 | OK | OK | [ OK ] |
Package: explorase |
Version: 1.10.0 |
Command: /Users/biocbuild/BBS/utils/build-universal.sh explorase_1.10.0.tar.gz /Library/Frameworks/R.framework/Versions/2.10/Resources/bin/R explorase.buildbin-libdir |
StartedAt: 2010-04-03 07:28:50 -0700 (Sat, 03 Apr 2010) |
EndedAt: 2010-04-03 07:28:58 -0700 (Sat, 03 Apr 2010) |
EllapsedTime: 7.6 seconds |
RetCode: 0 |
Status: OK |
PackageFile: explorase_1.10.0.tgz |
PackageFileSize: 1.724 MiB |
INSTALLATION WITH 'R CMD INSTALL --preclean --library=explorase.buildbin-libdir explorase_1.10.0.tar.gz' * installing *source* package ‘explorase’ ... ** R ** inst ** preparing package for lazy loading ** help *** installing help indices ** building package indices ... * DONE (explorase)