| Back to the "Multiple platform build/check report" | A B C D [E] F G H I J K L M N O P Q R S T U V W X Y Z |
| Package 105/353 | Hostname | OS / Arch | BUILD | CHECK | BUILD BIN | ||||
| edgeR 1.4.7 Mark Robinson
| wilson2 | Linux (openSUSE 11.1) / x86_64 | OK | OK | |||||
| liverpool | Windows Server 2003 R2 (32-bit) / x64 | OK | OK | OK | |||||
| pitt | Mac OS X Tiger (10.4.11) / i386 | OK | OK | [ OK ] | |||||
| pelham | Mac OS X Leopard (10.5.8) / i386 | OK | OK | OK |
| Package: edgeR |
| Version: 1.4.7 |
| Command: /Users/biocbuild/BBS/utils/build-universal.sh edgeR_1.4.7.tar.gz /Library/Frameworks/R.framework/Versions/2.10/Resources/bin/R edgeR.buildbin-libdir |
| StartedAt: 2010-04-03 07:43:36 -0700 (Sat, 03 Apr 2010) |
| EndedAt: 2010-04-03 07:43:42 -0700 (Sat, 03 Apr 2010) |
| EllapsedTime: 5.1 seconds |
| RetCode: 0 |
| Status: OK |
| PackageFile: edgeR_1.4.7.tgz |
| PackageFileSize: 1.168 MiB |
INSTALLATION WITH 'R CMD INSTALL --preclean --library=edgeR.buildbin-libdir edgeR_1.4.7.tar.gz'
* installing *source* package ‘edgeR’ ...
** R
** data
** inst
** preparing package for lazy loading
** help
*** installing help indices
** building package indices ...
* DONE (edgeR)