affxparser 1.18.0 Kasper Daniel Hansen
 | Snapshot Date: 2010-04-02 23:28:25 -0700 (Fri, 02 Apr 2010) |  | URL: https://hedgehog.fhcrc.org/bioconductor/branches/RELEASE_2_5/madman/Rpacks/affxparser |  | Last Changed Rev: 42684 / Revision: 45705 |  | Last Changed Date: 2009-10-27 16:33:29 -0700 (Tue, 27 Oct 2009) |  
  | wilson2  | Linux (openSUSE 11.1) / x86_64  | [ OK ] |  OK  |  | 
| liverpool  | Windows Server 2003 R2 (32-bit) / x64  |  OK  |  OK  |  OK  | 
| pitt  | Mac OS X Tiger (10.4.11) / i386  |  OK  |  OK  |  OK  | 
| pelham  | Mac OS X Leopard (10.5.8) / i386  |  OK  |  OK  |  OK  | 
* checking for file 'affxparser/DESCRIPTION' ... OK
* preparing 'affxparser':
* checking DESCRIPTION meta-information ... OK
* cleaning src
make: Nothing to be done for `clean'.
* removing junk files
* checking for LF line-endings in source and make files
* checking for empty or unneeded directories
WARNING: directory 'affxparser/tests/benchmarking' is empty
* building 'affxparser_1.18.0.tar.gz'