SSPA 1.2.0 Maarten van Iterson
 | Snapshot Date: 2010-04-02 23:28:25 -0700 (Fri, 02 Apr 2010) |  | URL: https://hedgehog.fhcrc.org/bioconductor/branches/RELEASE_2_5/madman/Rpacks/SSPA |  | Last Changed Rev: 42684 / Revision: 45705 |  | Last Changed Date: 2009-10-27 16:33:29 -0700 (Tue, 27 Oct 2009) |  
  | wilson2  | Linux (openSUSE 11.1) / x86_64  |  OK  |  OK  |  | 
| liverpool  | Windows Server 2003 R2 (32-bit) / x64  |  OK  |  OK  |  OK  | 
| pitt  | Mac OS X Tiger (10.4.11) / i386  |  OK  |  OK  | [ OK ] | 
| pelham  | Mac OS X Leopard (10.5.8) / i386  |  OK  |  OK  |  OK  | 
                INSTALLATION WITH 'R CMD INSTALL --preclean --library=SSPA.buildbin-libdir SSPA_1.2.0.tar.gz'
* installing *source* package ‘SSPA’ ...
** R
** inst
** preparing package for lazy loading
Loading required package: tcltk
Loading Tcl/Tk interface ... done
Creating a new generic function for "hist" in "SSPA"
Creating a new generic function for "plot" in "SSPA"
** help
*** installing help indices
** building package indices ...
* DONE (SSPA)