| Back to the "Multiple platform build/check report" | A B C D E F G H I J K L M N [O] P Q R S T U V W X Y Z |
| Package 235/353 | Hostname | OS / Arch | BUILD | CHECK | BUILD BIN | ||||
| OLIN 1.24.0 Matthias Futschik
| wilson2 | Linux (openSUSE 11.1) / x86_64 | [ OK ] | OK | |||||
| liverpool | Windows Server 2003 R2 (32-bit) / x64 | OK | OK | OK | |||||
| pitt | Mac OS X Tiger (10.4.11) / i386 | OK | OK | OK | |||||
| pelham | Mac OS X Leopard (10.5.8) / i386 | OK | OK | OK |
| Package: OLIN |
| Version: 1.24.0 |
| Command: /home/biocbuild/bbs-2.5-bioc/R/bin/R CMD build OLIN |
| StartedAt: 2010-04-03 01:09:41 -0700 (Sat, 03 Apr 2010) |
| EndedAt: 2010-04-03 01:09:42 -0700 (Sat, 03 Apr 2010) |
| EllapsedTime: 1.5 seconds |
| RetCode: 0 |
| Status: OK |
| PackageFile: OLIN_1.24.0.tar.gz |
| PackageFileSize: 1.349 MiB |
* checking for file 'OLIN/DESCRIPTION' ... OK * preparing 'OLIN': * checking DESCRIPTION meta-information ... OK * removing junk files * checking for LF line-endings in source and make files * checking for empty or unneeded directories * building 'OLIN_1.24.0.tar.gz'