| Back to the "Multiple platform build/check report" | A B C D E F G H I J [K] L M N O P Q R S T U V W X Y Z |
| Package 183/353 | Hostname | OS / Arch | BUILD | CHECK | BUILD BIN | ||||
| KEGGSOAP 1.20.0 Robert Gentleman
| wilson2 | Linux (openSUSE 11.1) / x86_64 | OK | OK | |||||
| liverpool | Windows Server 2003 R2 (32-bit) / x64 | OK | OK | OK | |||||
| pitt | Mac OS X Tiger (10.4.11) / i386 | OK | OK | OK | |||||
| pelham | Mac OS X Leopard (10.5.8) / i386 | OK | OK | [ OK ] |
| Package: KEGGSOAP |
| Version: 1.20.0 |
| Command: /Users/biocbuild/BBS/utils/build-universal.sh KEGGSOAP_1.20.0.tar.gz /Library/Frameworks/R.framework/Versions/2.10/Resources/bin/R KEGGSOAP.buildbin-libdir |
| StartedAt: 2010-04-03 07:32:56 -0700 (Sat, 03 Apr 2010) |
| EndedAt: 2010-04-03 07:32:58 -0700 (Sat, 03 Apr 2010) |
| EllapsedTime: 2.8 seconds |
| RetCode: 0 |
| Status: OK |
| PackageFile: KEGGSOAP_1.20.0.tgz |
| PackageFileSize: 48.45 KiB |
INSTALLATION WITH 'R CMD INSTALL --preclean --library=KEGGSOAP.buildbin-libdir KEGGSOAP_1.20.0.tar.gz'
* installing *source* package ‘KEGGSOAP’ ...
** R
** preparing package for lazy loading
** help
*** installing help indices
** building package indices ...
* DONE (KEGGSOAP)