BufferedMatrixMethods 1.10.1 B. M. Bolstad
Snapshot Date: 2010-04-02 23:28:25 -0700 (Fri, 02 Apr 2010) | URL: https://hedgehog.fhcrc.org/bioconductor/branches/RELEASE_2_5/madman/Rpacks/BufferedMatrixMethods | Last Changed Rev: 44226 / Revision: 45705 | Last Changed Date: 2010-01-25 06:52:15 -0800 (Mon, 25 Jan 2010) |
| wilson2 | Linux (openSUSE 11.1) / x86_64 | OK | OK | |
liverpool | Windows Server 2003 R2 (32-bit) / x64 | OK | OK | OK |
pitt | Mac OS X Tiger (10.4.11) / i386 | OK | OK | [ OK ] |
pelham | Mac OS X Leopard (10.5.8) / i386 | OK | OK | OK |
INSTALLATION WITH 'R CMD INSTALL --preclean --library=BufferedMatrixMethods.buildbin-libdir BufferedMatrixMethods_1.10.1.tar.gz'
* installing *source* package ‘BufferedMatrixMethods’ ...
** libs
** arch - i386
gcc -arch i386 -std=gnu99 -I/Library/Frameworks/R.framework/Versions/2.10/Resources/include -I/Library/Frameworks/R.framework/Versions/2.10/Resources/include/i386 -I/usr/local/include -I"/Library/Frameworks/R.framework/Versions/2.10/Resources/library/BufferedMatrix/include" -fPIC -g -O2 -Wall -c init_package.c -o init_package.o
gcc -arch i386 -std=gnu99 -I/Library/Frameworks/R.framework/Versions/2.10/Resources/include -I/Library/Frameworks/R.framework/Versions/2.10/Resources/include/i386 -I/usr/local/include -I"/Library/Frameworks/R.framework/Versions/2.10/Resources/library/BufferedMatrix/include" -fPIC -g -O2 -Wall -c preprocess_bm.c -o preprocess_bm.o
preprocess_bm.c: In function ‘bm_rma_bg_correct’:
preprocess_bm.c:344: warning: unused variable ‘i’
preprocess_bm.c: In function ‘R_bm_rma_bg_correct’:
preprocess_bm.c:378: warning: unused variable ‘current_mode’
preprocess_bm.c: In function ‘R_bm_quantile_normalize’:
preprocess_bm.c:593: warning: unused variable ‘current_mode’
preprocess_bm.c: In function ‘R_bm_rma_bg_correct_quantile_normalize’:
preprocess_bm.c:1151: warning: unused variable ‘current_mode’
preprocess_bm.c: At top level:
preprocess_bm.c:453: warning: ‘min’ defined but not used
gcc -arch i386 -std=gnu99 -dynamiclib -Wl,-headerpad_max_install_names -mmacosx-version-min=10.4 -undefined dynamic_lookup -single_module -multiply_defined suppress -L/usr/local/lib -o BufferedMatrixMethods.so init_package.o preprocess_bm.o -F/Library/Frameworks/R.framework/.. -framework R -Wl,-framework -Wl,CoreFoundation
** arch - ppc
gcc -arch ppc -std=gnu99 -I/Library/Frameworks/R.framework/Versions/2.10/Resources/include -I/Library/Frameworks/R.framework/Versions/2.10/Resources/include/ppc -I/usr/local/include -I"/Library/Frameworks/R.framework/Versions/2.10/Resources/library/BufferedMatrix/include" -fPIC -g -O2 -c init_package.c -o init_package.o
gcc -arch ppc -std=gnu99 -I/Library/Frameworks/R.framework/Versions/2.10/Resources/include -I/Library/Frameworks/R.framework/Versions/2.10/Resources/include/ppc -I/usr/local/include -I"/Library/Frameworks/R.framework/Versions/2.10/Resources/library/BufferedMatrix/include" -fPIC -g -O2 -c preprocess_bm.c -o preprocess_bm.o
gcc -arch ppc -std=gnu99 -dynamiclib -Wl,-headerpad_max_install_names -mmacosx-version-min=10.4 -undefined dynamic_lookup -single_module -multiply_defined suppress -L/usr/local/lib -o BufferedMatrixMethods.so init_package.o preprocess_bm.o -F/Library/Frameworks/R.framework/.. -framework R -Wl,-framework -Wl,CoreFoundation
** R
** preparing package for lazy loading
Attaching package: 'BufferedMatrix'
The following object(s) are masked from package:base :
colMeans,
colSums,
rowMeans,
rowSums
** help
*** installing help indices
** building package indices ...
* DONE (BufferedMatrixMethods)