| Back to the "Multiple platform build/check report" | A B C D E F G H I J K L M N O P Q R S T U V [W] X Y Z |
| Package 348/353 | Hostname | OS / Arch | BUILD | CHECK | BUILD BIN | ||||
| widgetTools 1.24.0 Jianhua Zhang
| wilson2 | Linux (openSUSE 11.1) / x86_64 | OK | OK | |||||
| liverpool | Windows Server 2003 R2 (32-bit) / x64 | OK | OK | [ OK ] | |||||
| pitt | Mac OS X Tiger (10.4.11) / i386 | OK | OK | OK | |||||
| pelham | Mac OS X Leopard (10.5.8) / i386 | OK | OK | OK |
| Package: widgetTools |
| Version: 1.24.0 |
| Command: E:\biocbld\bbs-2.5-bioc\R\bin\R.exe CMD INSTALL --build --library=widgetTools.buildbin-libdir widgetTools_1.24.0.tar.gz |
| StartedAt: 2009-12-14 07:18:26 -0800 (Mon, 14 Dec 2009) |
| EndedAt: 2009-12-14 07:18:30 -0800 (Mon, 14 Dec 2009) |
| EllapsedTime: 4.3 seconds |
| RetCode: 0 |
| Status: OK |
| PackageFile: widgetTools_1.24.0.zip |
| PackageFileSize: 227.1 KiB |
* installing *source* package 'widgetTools' ... ** R ** inst ** preparing package for lazy loading Loading Tcl/Tk interface ... done ** help *** installing help indices ** building package indices ... ** MD5 sums packaged installation of 'widgetTools' as widgetTools_1.24.0.zip * DONE (widgetTools)