| Back to the "Multiple platform build/check report" | A B C D E F G H I J K L M N O P Q R S T U V [W] X Y Z | 
| Package 346/353 | Hostname | OS / Arch | BUILD | CHECK | BUILD BIN | ||||
| weaver 1.12.0 Seth Falcon 
 | wilson2 | Linux (openSUSE 11.1) / x86_64 | OK | OK | |||||
| liverpool | Windows Server 2003 R2 (32-bit) / x64 | OK | OK | OK | |||||
| pitt | Mac OS X Tiger (10.4.11) / i386 | OK | OK | [ OK ] | |||||
| pelham | Mac OS X Leopard (10.5.8) / i386 | OK | OK | OK | 
| Package: weaver | 
| Version: 1.12.0 | 
| Command: /Users/biocbuild/BBS/utils/build-universal.sh weaver_1.12.0.tar.gz /Library/Frameworks/R.framework/Versions/2.10/Resources/bin/R weaver.buildbin-libdir | 
| StartedAt: 2009-12-14 07:56:00 -0800 (Mon, 14 Dec 2009) | 
| EndedAt: 2009-12-14 07:56:02 -0800 (Mon, 14 Dec 2009) | 
| EllapsedTime: 1.8 seconds | 
| RetCode: 0 | 
| Status: OK | 
| PackageFile: weaver_1.12.0.tgz | 
| PackageFileSize: 107.9 KiB | 
                INSTALLATION WITH 'R CMD INSTALL --preclean --library=weaver.buildbin-libdir weaver_1.12.0.tar.gz'
* installing *source* package ‘weaver’ ...
** R
** inst
** preparing package for lazy loading
** help
*** installing help indices
** building package indices ...
* DONE (weaver)