| Back to the "Multiple platform build/check report" | A B C D E F G H I J K L M N O P [Q] R S T U V W X Y Z | 
| Package 268/353 | Hostname | OS / Arch | BUILD | CHECK | BUILD BIN | ||||
| qvalue 1.20.0 John D. Storey 
 | wilson2 | Linux (openSUSE 11.1) / x86_64 | OK | OK | |||||
| liverpool | Windows Server 2003 R2 (32-bit) / x64 | OK | OK | [ OK ] | |||||
| pitt | Mac OS X Tiger (10.4.11) / i386 | OK | OK | OK | |||||
| pelham | Mac OS X Leopard (10.5.8) / i386 | OK | OK | OK | 
| Package: qvalue | 
| Version: 1.20.0 | 
| Command: E:\biocbld\bbs-2.5-bioc\R\bin\R.exe CMD INSTALL --build --library=qvalue.buildbin-libdir qvalue_1.20.0.tar.gz | 
| StartedAt: 2009-12-14 07:13:40 -0800 (Mon, 14 Dec 2009) | 
| EndedAt: 2009-12-14 07:13:42 -0800 (Mon, 14 Dec 2009) | 
| EllapsedTime: 2.4 seconds | 
| RetCode: 0 | 
| Status: OK | 
| PackageFile: qvalue_1.20.0.zip | 
| PackageFileSize: 453.1 KiB | 
* installing *source* package 'qvalue' ... ** R ** data ** inst ** preparing package for lazy loading Loading Tcl/Tk interface ... done ** help *** installing help indices ** building package indices ... ** MD5 sums packaged installation of 'qvalue' as qvalue_1.20.0.zip * DONE (qvalue)