| Back to the "Multiple platform build/check report" | A B C D E F G H I J K L [M] N O P Q R S T U V W X Y Z |
| Package 205/353 | Hostname | OS / Arch | BUILD | CHECK | BUILD BIN | ||||
| marray 1.24.0 Yee Hwa (Jean) Yang
| wilson2 | Linux (openSUSE 11.1) / x86_64 | OK | OK | |||||
| liverpool | Windows Server 2003 R2 (32-bit) / x64 | OK | OK | OK | |||||
| pitt | Mac OS X Tiger (10.4.11) / i386 | OK | OK | [ OK ] | |||||
| pelham | Mac OS X Leopard (10.5.8) / i386 | OK | OK | OK |
| Package: marray |
| Version: 1.24.0 |
| Command: /Users/biocbuild/BBS/utils/build-universal.sh marray_1.24.0.tar.gz /Library/Frameworks/R.framework/Versions/2.10/Resources/bin/R marray.buildbin-libdir |
| StartedAt: 2009-12-14 07:47:43 -0800 (Mon, 14 Dec 2009) |
| EndedAt: 2009-12-14 07:47:53 -0800 (Mon, 14 Dec 2009) |
| EllapsedTime: 10.4 seconds |
| RetCode: 0 |
| Status: OK |
| PackageFile: marray_1.24.0.tgz |
| PackageFileSize: 4.113 MiB |
INSTALLATION WITH 'R CMD INSTALL --preclean --library=marray.buildbin-libdir marray_1.24.0.tar.gz'
* installing *source* package ‘marray’ ...
** R
** data
** inst
** preparing package for lazy loading
** help
*** installing help indices
** building package indices ...
* DONE (marray)