| Back to the "Multiple platform build/check report" | A B C D E F G H I J K [L] M N O P Q R S T U V W X Y Z |
| Package 184/353 | Hostname | OS / Arch | BUILD | CHECK | BUILD BIN | ||||
| lapmix 1.12.0 Yann Ruffieux
| wilson2 | Linux (openSUSE 11.1) / x86_64 | OK | OK | |||||
| liverpool | Windows Server 2003 R2 (32-bit) / x64 | OK | OK | [ OK ] | |||||
| pitt | Mac OS X Tiger (10.4.11) / i386 | OK | OK | OK | |||||
| pelham | Mac OS X Leopard (10.5.8) / i386 | OK | OK | OK |
| Package: lapmix |
| Version: 1.12.0 |
| Command: E:\biocbld\bbs-2.5-bioc\R\bin\R.exe CMD INSTALL --build --library=lapmix.buildbin-libdir lapmix_1.12.0.tar.gz |
| StartedAt: 2009-12-14 07:08:17 -0800 (Mon, 14 Dec 2009) |
| EndedAt: 2009-12-14 07:08:21 -0800 (Mon, 14 Dec 2009) |
| EllapsedTime: 3.6 seconds |
| RetCode: 0 |
| Status: OK |
| PackageFile: lapmix_1.12.0.zip |
| PackageFileSize: 120.6 KiB |
* installing *source* package 'lapmix' ... ** R ** inst ** preparing package for lazy loading ** help *** installing help indices ** building package indices ... ** MD5 sums packaged installation of 'lapmix' as lapmix_1.12.0.zip * DONE (lapmix)