flowCore 1.12.0 F. Hahne
 | Snapshot Date: 2009-12-13 23:30:35 -0800 (Sun, 13 Dec 2009) |  | URL: https://hedgehog.fhcrc.org/bioconductor/branches/RELEASE_2_5/madman/Rpacks/flowCore |  | Last Changed Rev: 42684 / Revision: 43539 |  | Last Changed Date: 2009-10-27 16:33:29 -0700 (Tue, 27 Oct 2009) |  
  | wilson2  | Linux (openSUSE 11.1) / x86_64  |  OK  |  OK  |  | 
| liverpool  | Windows Server 2003 R2 (32-bit) / x64  | [ OK ] |  OK  |  OK  | 
| pitt  | Mac OS X Tiger (10.4.11) / i386  |  OK  |  OK  |  OK  | 
| pelham  | Mac OS X Leopard (10.5.8) / i386  |  OK  |  OK  |  OK  | 
* checking for file 'flowCore/DESCRIPTION' ... OK
* preparing 'flowCore':
* checking DESCRIPTION meta-information ... OK
* cleaning src
* installing the package to re-build vignettes
* installing *source* package 'flowCore' ...
** libs
  making DLL ...
gcc -I"e:/biocbld/bbs-2.5-bioc/R/include"        -O3 -Wall  -std=gnu99 -c biexponential.c -o biexponential.o
gcc -I"e:/biocbld/bbs-2.5-bioc/R/include"        -O3 -Wall  -std=gnu99 -c inPolygon.c -o inPolygon.o
gcc -I"e:/biocbld/bbs-2.5-bioc/R/include"        -O3 -Wall  -std=gnu99 -c inPolytope.c -o inPolytope.o
gcc -I"e:/biocbld/bbs-2.5-bioc/R/include"        -O3 -Wall  -std=gnu99 -c init.c -o init.o
gcc -shared -s -o flowCore.dll tmp.def biexponential.o inPolygon.o inPolytope.o init.o -Le:/biocbld/bbs-2.5-bioc/R/bin -lR
  ... done
** R
** data
** inst
** preparing package for lazy loading
Welcome to Bioconductor
  Vignettes contain introductory material. To view, type
  'openVignette()'. To cite Bioconductor, see
  'citation("Biobase")' and for packages 'citation(pkgname)'.
Loading required package: robustbase
Loading required package: pcaPP
Loading required package: mvtnorm
pcaPP 0.1-1 loaded
Scalable Robust Estimators with High Breakdown Point (version 1.0-00)
Warning in .checkSubclasses(class1, classDef, class2, classDef2, where1,  :
  Subclass "array" of class "matrix" is not local and cannot be updated for new inheritance information; consider setClassUnion()
Warning in .checkSubclasses(class1, classDef, class2, classDef2, where1,  :
  Subclass "mts" of class "matrix" is not local and cannot be updated for new inheritance information; consider setClassUnion()
Warning in .checkSubclasses(class1, classDef, class2, classDef2, where1,  :
  Subclass "signature" of class "character" is not local and cannot be updated for new inheritance information; consider setClassUnion()
Warning in .checkSubclasses(class1, classDef, class2, classDef2, where1,  :
  Subclass "ObjectsWithPackage" of class "character" is not local and cannot be updated for new inheritance information; consider setClassUnion()
Warning in .checkSubclasses(class1, classDef, class2, classDef2, where1,  :
  Subclass "signature" of class "character" is not local and cannot be updated for new inheritance information; consider setClassUnion()
Warning in .checkSubclasses(class1, classDef, class2, classDef2, where1,  :
  Subclass "ObjectsWithPackage" of class "character" is not local and cannot be updated for new inheritance information; consider setClassUnion()
Warning in .checkSubclasses(class1, classDef, class2, classDef2, where1,  :
  Subclass "signature" of class "character" is not local and cannot be updated for new inheritance information; consider setClassUnion()
Warning in .checkSubclasses(class1, classDef, class2, classDef2, where1,  :
  Subclass "ObjectsWithPackage" of class "character" is not local and cannot be updated for new inheritance information; consider setClassUnion()
Warning in .checkSubclasses(class1, classDef, class2, classDef2, where1,  :
  Subclass "integer" of class "numeric" is not local and cannot be updated for new inheritance information; consider setClassUnion()
Warning in .checkSubclasses(class1, classDef, class2, classDef2, where1,  :
  Subclass "ordered" of class "numeric" is not local and cannot be updated for new inheritance information; consider setClassUnion()
** help
*** installing help indices
** building package indices ...
** MD5 sums
* DONE (flowCore)
* creating vignettes ... OK
* cleaning src
* removing junk files
* checking for LF line-endings in source and make files
* checking for empty or unneeded directories
* building 'flowCore_1.12.0.tar.gz'