| SIM 1.14.0 Maarten van Iterson
 
 | Snapshot Date: 2009-12-13 23:30:35 -0800 (Sun, 13 Dec 2009) |  | URL: https://hedgehog.fhcrc.org/bioconductor/branches/RELEASE_2_5/madman/Rpacks/SIM |  | Last Changed Rev: 42684 / Revision: 43539 |  | Last Changed Date: 2009-10-27 16:33:29 -0700 (Tue, 27 Oct 2009) | 
 | wilson2 | Linux (openSUSE 11.1) / x86_64 | OK | OK |  | 
| liverpool | Windows Server 2003 R2 (32-bit) / x64 | OK | OK | OK | 
| pitt | Mac OS X Tiger (10.4.11) / i386 | OK | OK | [ OK ] | 
| pelham | Mac OS X Leopard (10.5.8) / i386 | OK | OK | OK | 
                INSTALLATION WITH 'R CMD INSTALL --preclean --library=SIM.buildbin-libdir SIM_1.14.0.tar.gz'
* installing *source* package ‘SIM’ ...
** libs
** arch - i386
gcc -arch i386 -std=gnu99 -I/Library/Frameworks/R.framework/Resources/include -I/Library/Frameworks/R.framework/Resources/include/i386  -I/usr/local/include    -fPIC  -g -O2 -c withinWindow.c -o withinWindow.o
gcc -arch i386 -std=gnu99 -dynamiclib -Wl,-headerpad_max_install_names -mmacosx-version-min=10.4 -undefined dynamic_lookup -single_module -multiply_defined suppress -L/usr/local/lib -o SIM.so withinWindow.o -F/Library/Frameworks/R.framework/.. -framework R -Wl,-framework -Wl,CoreFoundation
** arch - ppc
gcc -arch ppc -std=gnu99 -I/Library/Frameworks/R.framework/Resources/include -I/Library/Frameworks/R.framework/Resources/include/ppc  -I/usr/local/include    -fPIC  -g -O2 -c withinWindow.c -o withinWindow.o
gcc -arch ppc -std=gnu99 -dynamiclib -Wl,-headerpad_max_install_names -mmacosx-version-min=10.4 -undefined dynamic_lookup -single_module -multiply_defined suppress -L/usr/local/lib -o SIM.so withinWindow.o -F/Library/Frameworks/R.framework/.. -framework R -Wl,-framework -Wl,CoreFoundation
** R
** data
** inst
** preparing package for lazy loading
Loading required package: SparseM
Package SparseM (0.83) loaded.  
	   To cite, see citation("SparseM")
Attaching package: 'SparseM'
	The following object(s) are masked from package:stats :
	 model.response 
	The following object(s) are masked from package:base :
	 backsolve,
	 chol 
Attaching package: 'quantreg'
	The following object(s) are masked from package:utils :
	 vignette 
** help
*** installing help indices
** building package indices ...
* DONE (SIM)