| Back to the "Multiple platform build/check report" | A B C D E F G H I J K L M N O P Q [R] S T U V W X Y Z | 
| Package 271/353 | Hostname | OS / Arch | BUILD | CHECK | BUILD BIN | ||||
| RbcBook1 1.14.0 Vince Carey 
 | wilson2 | Linux (openSUSE 11.1) / x86_64 | OK | OK | |||||
| liverpool | Windows Server 2003 R2 (32-bit) / x64 | OK | OK | OK | |||||
| pitt | Mac OS X Tiger (10.4.11) / i386 | OK | OK | [ OK ] | |||||
| pelham | Mac OS X Leopard (10.5.8) / i386 | OK | OK | OK | 
| Package: RbcBook1 | 
| Version: 1.14.0 | 
| Command: /Users/biocbuild/BBS/utils/build-universal.sh RbcBook1_1.14.0.tar.gz /Library/Frameworks/R.framework/Versions/2.10/Resources/bin/R RbcBook1.buildbin-libdir | 
| StartedAt: 2009-12-14 07:50:29 -0800 (Mon, 14 Dec 2009) | 
| EndedAt: 2009-12-14 07:50:34 -0800 (Mon, 14 Dec 2009) | 
| EllapsedTime: 5.2 seconds | 
| RetCode: 0 | 
| Status: OK | 
| PackageFile: RbcBook1_1.14.0.tgz | 
| PackageFileSize: 7.668 MiB | 
                INSTALLATION WITH 'R CMD INSTALL --preclean --library=RbcBook1.buildbin-libdir RbcBook1_1.14.0.tar.gz'
* installing *source* package ‘RbcBook1’ ...
** R
** data
** inst
** help
*** installing help indices
** building package indices ...
* DONE (RbcBook1)