RBioinf 1.6.0 Robert Gentleman
 | Snapshot Date: 2009-12-13 23:30:35 -0800 (Sun, 13 Dec 2009) |  | URL: https://hedgehog.fhcrc.org/bioconductor/branches/RELEASE_2_5/madman/Rpacks/RBioinf |  | Last Changed Rev: 42684 / Revision: 43539 |  | Last Changed Date: 2009-10-27 16:33:29 -0700 (Tue, 27 Oct 2009) |  
  | wilson2  | Linux (openSUSE 11.1) / x86_64  | [ OK ] |  OK  |  | 
| liverpool  | Windows Server 2003 R2 (32-bit) / x64  |  OK  |  OK  |  OK  | 
| pitt  | Mac OS X Tiger (10.4.11) / i386  |  OK  |  OK  |  OK  | 
| pelham  | Mac OS X Leopard (10.5.8) / i386  |  OK  |  OK  |  OK  | 
* checking for file 'RBioinf/DESCRIPTION' ... OK
* preparing 'RBioinf':
* checking DESCRIPTION meta-information ... OK
* cleaning src
* installing the package to re-build vignettes
* installing *source* package ‘RBioinf’ ...
** libs
gcc -std=gnu99 -I/home/biocbuild/bbs-2.5-bioc/R/include  -I/usr/local/include    -fpic  -g -O2 -Wall -c Rinit.c -o Rinit.o
gcc -std=gnu99 -I/home/biocbuild/bbs-2.5-bioc/R/include  -I/usr/local/include    -fpic  -g -O2 -Wall -c rand.c -o rand.o
rand.c: In function ‘simpleRand’:
rand.c:58: warning: statement with no effect
gcc -std=gnu99 -shared -L/usr/local/lib64 -o RBioinf.so Rinit.o rand.o -L/home/biocbuild/bbs-2.5-bioc/R/lib -lR
** R
** inst
** preparing package for lazy loading
** help
*** installing help indices
** building package indices ...
* DONE (RBioinf)
* creating vignettes ... OK
* cleaning src
* removing junk files
* checking for LF line-endings in source and make files
* checking for empty or unneeded directories
* building 'RBioinf_1.6.0.tar.gz'