GeneRfold 1.4.0 Antoine Lucas
 | Snapshot Date: 2009-12-13 23:30:35 -0800 (Sun, 13 Dec 2009) |  | URL: https://hedgehog.fhcrc.org/bioconductor/branches/RELEASE_2_5/madman/Rpacks/GeneRfold |  | Last Changed Rev: 42684 / Revision: 43539 |  | Last Changed Date: 2009-10-27 16:33:29 -0700 (Tue, 27 Oct 2009) |  
  | wilson2  | Linux (openSUSE 11.1) / x86_64  | [ OK ] |  OK  |  | 
| liverpool  | Windows Server 2003 R2 (32-bit) / x64  | N O T   S U P P O R T E D | 
| pitt  | Mac OS X Tiger (10.4.11) / i386  |  OK  |  OK  |  OK  | 
| pelham  | Mac OS X Leopard (10.5.8) / i386  |  OK  |  OK  |  OK  | 
* checking for file 'GeneRfold/DESCRIPTION' ... OK
* preparing 'GeneRfold':
* checking DESCRIPTION meta-information ... OK
* cleaning src
* running cleanup
* installing the package to re-build vignettes
* installing *source* package ‘GeneRfold’ ...
checking for gcc... gcc
checking for C compiler default output file name... a.out
checking whether the C compiler works... yes
checking whether we are cross compiling... no
checking for suffix of executables... 
checking for suffix of object files... o
checking whether we are using the GNU C compiler... yes
checking whether gcc accepts -g... yes
checking for gcc option to accept ANSI C... none needed
checking for main in -lRNA... yes
configure: creating ./config.status
config.status: creating src/Makevars
** libs
gcc -std=gnu99 -I/home/biocbuild/bbs-2.5-bioc/R/include -I/usr/local/include/  -fPIC -Wno-conversion -I/usr/local/include    -fpic  -g -O2 -Wall -c viennaR.c -o viennaR.o
gcc -std=gnu99 -shared -L/usr/local/lib64 -o GeneRfold.so viennaR.o -L/usr/local/lib/ -lRNA -fPIC -L/home/biocbuild/bbs-2.5-bioc/R/lib -lR
** R
** inst
** preparing package for lazy loading
Attaching package: 'GeneR'
	The following object(s) are masked from package:utils :
	 relist 
** help
*** installing help indices
** building package indices ...
* DONE (GeneRfold)
* creating vignettes ... OK
* cleaning src
make: Nothing to be done for `clean'.
* running cleanup
* removing junk files
* checking for LF line-endings in source and make files
* checking for empty or unneeded directories
* building 'GeneRfold_1.4.0.tar.gz'