| GeneAnswers 1.2.0 Gang Feng  and Pan Du
 
 | Snapshot Date: 2009-12-13 23:30:35 -0800 (Sun, 13 Dec 2009) |  | URL: https://hedgehog.fhcrc.org/bioconductor/branches/RELEASE_2_5/madman/Rpacks/GeneAnswers |  | Last Changed Rev: 43522 / Revision: 43539 |  | Last Changed Date: 2009-12-11 09:56:47 -0800 (Fri, 11 Dec 2009) | 
 | wilson2 | Linux (openSUSE 11.1) / x86_64 | OK | OK |  | 
| liverpool | Windows Server 2003 R2 (32-bit) / x64 | OK | OK | [ OK ] | 
| pitt | Mac OS X Tiger (10.4.11) / i386 | OK | OK | OK | 
| pelham | Mac OS X Leopard (10.5.8) / i386 | OK | OK | OK | 
* installing *source* package 'GeneAnswers' ...
  Using auto-selected zip option '--use-zip-data'
** R
** data
** inst
** preparing package for lazy loading
Loading required package: bitops
Loading required package: AnnotationDbi
Loading required package: Biobase
Welcome to Bioconductor
  Vignettes contain introductory material. To view, type
  'openVignette()'. To cite Bioconductor, see
  'citation("Biobase")' and for packages 'citation(pkgname)'.
Loading required package: DBI
** help
*** installing help indices
** building package indices ...
** MD5 sums
packaged installation of 'GeneAnswers' as GeneAnswers_1.2.0.zip
* DONE (GeneAnswers)