GEOquery 2.11.2 Sean Davis
| Snapshot Date: 2009-12-13 23:30:35 -0800 (Sun, 13 Dec 2009) | | URL: https://hedgehog.fhcrc.org/bioconductor/branches/RELEASE_2_5/madman/Rpacks/GEOquery | | Last Changed Rev: 43463 / Revision: 43539 | | Last Changed Date: 2009-12-08 12:41:25 -0800 (Tue, 08 Dec 2009) |
| wilson2 | Linux (openSUSE 11.1) / x86_64 | OK | ERROR | |
| liverpool | Windows Server 2003 R2 (32-bit) / x64 | OK | OK | [ OK ] |
| pitt | Mac OS X Tiger (10.4.11) / i386 | OK | OK | OK |
| pelham | Mac OS X Leopard (10.5.8) / i386 | OK | OK | OK |
* installing *source* package 'GEOquery' ...
** R
** inst
** preparing package for lazy loading
Welcome to Bioconductor
Vignettes contain introductory material. To view, type
'openVignette()'. To cite Bioconductor, see
'citation("Biobase")' and for packages 'citation(pkgname)'.
Loading required package: bitops
** help
*** installing help indices
** building package indices ...
** MD5 sums
packaged installation of 'GEOquery' as GEOquery_2.11.2.zip
* DONE (GEOquery)