| Back to the "Multiple platform build/check report" | A B [C] D E F G H I J K L M N O P Q R S T U V W X Y Z |
| Package 77/353 | Hostname | OS / Arch | BUILD | CHECK | BUILD BIN | ||||
| CNTools 1.2.0 J. Zhang
| wilson2 | Linux (openSUSE 11.1) / x86_64 | OK | OK | |||||
| liverpool | Windows Server 2003 R2 (32-bit) / x64 | OK | OK | OK | |||||
| pitt | Mac OS X Tiger (10.4.11) / i386 | OK | OK | [ OK ] | |||||
| pelham | Mac OS X Leopard (10.5.8) / i386 | OK | OK | OK |
| Package: CNTools |
| Version: 1.2.0 |
| Command: /Users/biocbuild/BBS/utils/build-universal.sh CNTools_1.2.0.tar.gz /Library/Frameworks/R.framework/Versions/2.10/Resources/bin/R CNTools.buildbin-libdir |
| StartedAt: 2009-12-14 07:41:55 -0800 (Mon, 14 Dec 2009) |
| EndedAt: 2009-12-14 07:41:56 -0800 (Mon, 14 Dec 2009) |
| EllapsedTime: 1.7 seconds |
| RetCode: 0 |
| Status: OK |
| PackageFile: CNTools_1.2.0.tgz |
| PackageFileSize: 1.109 MiB |
INSTALLATION WITH 'R CMD INSTALL --preclean --library=CNTools.buildbin-libdir CNTools_1.2.0.tar.gz'
* installing *source* package ‘CNTools’ ...
** R
** data
** inst
** help
*** installing help indices
** building package indices ...
* DONE (CNTools)