AnnotationDbi 1.8.1 Biocore Team c/o BioC user list
 | Snapshot Date: 2009-12-13 23:30:35 -0800 (Sun, 13 Dec 2009) |  | URL: https://hedgehog.fhcrc.org/bioconductor/branches/RELEASE_2_5/madman/Rpacks/AnnotationDbi |  | Last Changed Rev: 42874 / Revision: 43539 |  | Last Changed Date: 2009-11-09 12:10:55 -0800 (Mon, 09 Nov 2009) |  
  | wilson2  | Linux (openSUSE 11.1) / x86_64  |  OK  |  OK  |  | 
| liverpool  | Windows Server 2003 R2 (32-bit) / x64  |  OK  |  OK  | [ OK ] | 
| pitt  | Mac OS X Tiger (10.4.11) / i386  |  OK  |  OK  |  OK  | 
| pelham  | Mac OS X Leopard (10.5.8) / i386  |  OK  |  OK  |  OK  | 
* installing *source* package 'AnnotationDbi' ...
** R
** inst
** preparing package for lazy loading
Welcome to Bioconductor
  Vignettes contain introductory material. To view, type
  'openVignette()'. To cite Bioconductor, see
  'citation("Biobase")' and for packages 'citation(pkgname)'.
Creating a new generic function for "toString" in "AnnotationDbi"
Creating a new generic function for "rev" in "AnnotationDbi"
Creating a new generic function for "colnames" in "AnnotationDbi"
Creating a new generic function for "subset" in "AnnotationDbi"
Creating a new generic function for "head" in "AnnotationDbi"
Creating a new generic function for "tail" in "AnnotationDbi"
Creating a new generic function for "nrow" in "AnnotationDbi"
Creating a new generic function for "ncol" in "AnnotationDbi"
Creating a new generic function for "as.list" in "AnnotationDbi"
Creating a new generic function for "ls" in "AnnotationDbi"
Creating a new generic function for "mget" in "AnnotationDbi"
Creating a new generic function for "eapply" in "AnnotationDbi"
Creating a new generic function for "get" in "AnnotationDbi"
Creating a new generic function for "exists" in "AnnotationDbi"
Creating a new generic function for "sample" in "AnnotationDbi"
** help
*** installing help indices
** building package indices ...
** MD5 sums
packaged installation of 'AnnotationDbi' as AnnotationDbi_1.8.1.zip
* DONE (AnnotationDbi)