| Back to the "Multiple platform build/check report" | 
| Package 25/65 | Hostname | OS / Arch | BUILD | CHECK | BUILD BIN | ||||
| golubEsets 1.4.6 Vince Carey 
  | wilson1 | Linux (openSUSE 11.1) / x86_64 | OK | ERROR | |||||
| liverpool | Windows Server 2003 R2 (32-bit) / x64 | OK | ERROR | OK | |||||
| pitt | Mac OS X Tiger (10.4.11) / i386 | [ OK ] | ERROR | OK | |||||
| pelham | Mac OS X Leopard (10.5.7) / i386 | OK | ERROR | OK | 
| Package: golubEsets | 
| Version: 1.4.6 | 
| Command: /Library/Frameworks/R.framework/Versions/2.9/Resources/bin/R CMD build golubEsets | 
| StartedAt: 2009-08-10 01:25:27 -0700 (Mon, 10 Aug 2009) | 
| EndedAt: 2009-08-10 01:25:30 -0700 (Mon, 10 Aug 2009) | 
| EllapsedTime: 3.8 seconds | 
| RetCode: 0 | 
| Status: OK | 
| PackageFile: golubEsets_1.4.6.tar.gz | 
| PackageFileSize: 7.996 MiB | 
* checking for file 'golubEsets/DESCRIPTION' ... OK * preparing 'golubEsets': * checking DESCRIPTION meta-information ... OK * removing junk files * checking for LF line-endings in source and make files * checking for empty or unneeded directories * building 'golubEsets_1.4.6.tar.gz'