facsDorit 1.4.1 Florian Hahne
 | Snapshot Date: 2009-08-10 00:27:00 -0700 (Mon, 10 Aug 2009) |  | URL: https://hedgehog.fhcrc.org/bioc-data/trunk/experiment/pkgs/facsDorit |  | Last Changed Rev: 848 / Revision: 938 |  | Last Changed Date: 2009-06-25 16:12:57 -0700 (Thu, 25 Jun 2009) |  
  | wilson1  | Linux (openSUSE 11.1) / x86_64  |  OK  |  OK  |  | 
| liverpool  | Windows Server 2003 R2 (32-bit) / x64  |  OK  |  OK  |  OK  | 
| pitt  | Mac OS X Tiger (10.4.11) / i386  |  OK  |  OK  |  OK  | 
| pelham  | Mac OS X Leopard (10.5.7) / i386  |  OK  |  OK  | [ OK ] | 
                INSTALLATION WITH 'R CMD INSTALL --preclean --library=facsDorit.buildbin-libdir facsDorit_1.4.1.tar.gz'
* Installing *source* package 'facsDorit' ...
** R
** inst
** preparing package for lazy loading
Loading required package: Biobase
Welcome to Bioconductor
  Vignettes contain introductory material. To view, type
  'openVignette()'. To cite Bioconductor, see
  'citation("Biobase")' and for packages 'citation(pkgname)'.
Loading required package: RColorBrewer
Loading required package: grid
Loading required package: rrcov
Loading required package: robustbase
Loading required package: pcaPP
Loading required package: mvtnorm
pcaPP 0.1-1 loaded
Scalable Robust Estimators with High Breakdown Point (version 0.5-02)
** help
*** installing help indices
 >>> Building/Updating help pages for package 'facsDorit'
     Formats: text html latex example 
Note: ignoring empty \keyword entries in file 'facsDorit.Rd'
Note: removing empty section \references in file 'facsDorit.Rd'
  facsDorit                         text    html    latex   example
** building package indices ...
* DONE (facsDorit)