| dyebiasexamples 1.0.3 Philip Lijnzaad
 
 | Snapshot Date: 2009-08-10 00:27:00 -0700 (Mon, 10 Aug 2009) |  | URL: https://hedgehog.fhcrc.org/bioc-data/trunk/experiment/pkgs/dyebiasexamples |  | Last Changed Rev: 757 / Revision: 938 |  | Last Changed Date: 2009-04-03 14:32:25 -0700 (Fri, 03 Apr 2009) | 
 | wilson1 | Linux (openSUSE 11.1) / x86_64 | OK | OK |  | 
| liverpool | Windows Server 2003 R2 (32-bit) / x64 | OK | OK | [ OK ] | 
| pitt | Mac OS X Tiger (10.4.11) / i386 | OK | OK | OK | 
| pelham | Mac OS X Leopard (10.5.7) / i386 | OK | OK | OK | 
* Installing *source* package 'dyebiasexamples' ...
  Using auto-selected zip options '--use-zip-data '
** R
** data
** inst
** preparing package for lazy loading
Loading required package: limma
Loading required package: Biobase
Welcome to Bioconductor
  Vignettes contain introductory material. To view, type
  'openVignette()'. To cite Bioconductor, see
  'citation("Biobase")' and for packages 'citation(pkgname)'.
Loading required package: RCurl
Loading required package: bitops
** help
*** installing help indices
 >>> Building/Updating help pages for package 'dyebiasexamples'
     Formats: text html latex example chm 
  data.raw                          text    html    latex   example chm
  dyebias.geo2marray                text    html    latex   example chm
  dyebias.umcu.proper.estimators    text    html    latex   example chm
Microsoft HTML Help Compiler 4.74.8702
Compiling e:\biocbld\bbs-2.4-data-experiment\tmpdir\Rtmpxwf4cN\R.INSTALL678418be\dyebiasexamples\chm\dyebiasexamples.chm
Compile time: 0 minutes, 1 second
4	Topics
7	Local links
0	Internet links
1	Graphic
Created e:\biocbld\bbs-2.4-data-experiment\tmpdir\Rtmpxwf4cN\R.INSTALL678418be\dyebiasexamples\chm\dyebiasexamples.chm, 23,482 bytes
Compression increased file by 4,799 bytes.
** building package indices ...
** MD5 sums
packaged installation of 'dyebiasexamples' as dyebiasexamples_1.0.3.zip
* DONE (dyebiasexamples)