| Back to the "Multiple platform build/check report" |
| Package 11/65 | Hostname | OS / Arch | BUILD | CHECK | BUILD BIN | ||||
| colonCA 1.4.5 W Sylvia Merk
| wilson1 | Linux (openSUSE 11.1) / x86_64 | OK | ERROR | |||||
| liverpool | Windows Server 2003 R2 (32-bit) / x64 | OK | ERROR | ERROR | |||||
| pitt | Mac OS X Tiger (10.4.11) / i386 | OK | ERROR | ERROR | |||||
| pelham | Mac OS X Leopard (10.5.7) / i386 | [ OK ] | ERROR | ERROR |
| Package: colonCA |
| Version: 1.4.5 |
| Command: /Library/Frameworks/R.framework/Versions/2.9/Resources/bin/R CMD build colonCA |
| StartedAt: 2009-08-10 01:27:11 -0700 (Mon, 10 Aug 2009) |
| EndedAt: 2009-08-10 01:27:14 -0700 (Mon, 10 Aug 2009) |
| EllapsedTime: 3.1 seconds |
| RetCode: 0 |
| Status: OK |
| PackageFile: colonCA_1.4.5.tar.gz |
| PackageFileSize: 783.1 KiB |
* checking for file 'colonCA/DESCRIPTION' ... OK * preparing 'colonCA': * checking DESCRIPTION meta-information ... OK * removing junk files * checking for LF line-endings in source and make files * checking for empty or unneeded directories * building 'colonCA_1.4.5.tar.gz'