XhybCasneuf 1.0.4 Tineke Casneuf
 | Snapshot Date: 2009-08-10 00:27:00 -0700 (Mon, 10 Aug 2009) |  | URL: https://hedgehog.fhcrc.org/bioc-data/trunk/experiment/pkgs/XhybCasneuf |  | Last Changed Rev: 821 / Revision: 938 |  | Last Changed Date: 2009-06-18 14:38:01 -0700 (Thu, 18 Jun 2009) |  
  | wilson1  | Linux (openSUSE 11.1) / x86_64  |  OK  |  OK  |  | 
| liverpool  | Windows Server 2003 R2 (32-bit) / x64  |  OK  |  OK  | [ OK ] | 
| pitt  | Mac OS X Tiger (10.4.11) / i386  |  OK  |  OK  |  OK  | 
| pelham  | Mac OS X Leopard (10.5.7) / i386  |  OK  |  OK  |  OK  | 
* Installing *source* package 'XhybCasneuf' ...
  Using auto-selected zip options '--use-zip-data '
** R
** data
** inst
** preparing package for lazy loading
Loading required package: Biobase
Welcome to Bioconductor
  Vignettes contain introductory material. To view, type
  'openVignette()'. To cite Bioconductor, see
  'citation("Biobase")' and for packages 'citation(pkgname)'.
Attaching package: 'tinesath1cdf'
	The following object(s) are masked from package:ath1121501cdf :
	 i2xy,
	 xy2i 
** help
*** installing help indices
 >>> Building/Updating help pages for package 'XhybCasneuf'
     Formats: text html latex example chm 
  AffysTissue                       text    html    latex   example chm
  CustomsTissue                     text    html    latex   example chm
  XhybExamples-class                text    html    latex   example chm
  ex1                               text    html    latex   example chm
  runSimulation                     text    html    latex   example chm
Microsoft HTML Help Compiler 4.74.8702
Compiling e:\biocbld\bbs-2.4-data-experiment\tmpdir\Rtmp3SHWc6\R.INSTALL678418be\XhybCasneuf\chm\XhybCasneuf.chm
Compile time: 0 minutes, 1 second
6	Topics
18	Local links
0	Internet links
1	Graphic
Created e:\biocbld\bbs-2.4-data-experiment\tmpdir\Rtmp3SHWc6\R.INSTALL678418be\XhybCasneuf\chm\XhybCasneuf.chm, 20,436 bytes
Compression decreased file by 27 bytes.
** building package indices ...
** MD5 sums
packaged installation of 'XhybCasneuf' as XhybCasneuf_1.0.4.zip
* DONE (XhybCasneuf)