HIVcDNAvantWout03 1.2.2 Chris Fraley
 | Snapshot Date: 2009-08-10 00:27:00 -0700 (Mon, 10 Aug 2009) |  | URL: https://hedgehog.fhcrc.org/bioc-data/trunk/experiment/pkgs/HIVcDNAvantWout03 |  | Last Changed Rev: 828 / Revision: 938 |  | Last Changed Date: 2009-06-18 15:00:07 -0700 (Thu, 18 Jun 2009) |  
  | wilson1  | Linux (openSUSE 11.1) / x86_64  |  OK  |  OK  |  | 
| liverpool  | Windows Server 2003 R2 (32-bit) / x64  |  OK  | [ OK ] |  OK  | 
| pitt  | Mac OS X Tiger (10.4.11) / i386  |  OK  |  OK  |  OK  | 
| pelham  | Mac OS X Leopard (10.5.7) / i386  |  OK  |  OK  |  OK  | 
* checking for working pdflatex ... OK
* using log directory 'E:/biocbld/bbs-2.4-data-experiment/meat/HIVcDNAvantWout03.Rcheck'
* using R version 2.9.1 (2009-06-26)
* using session charset: ISO8859-1
* using options '--no-vignettes'
* checking for file 'HIVcDNAvantWout03/DESCRIPTION' ... OK
* this is package 'HIVcDNAvantWout03' version '1.2.2'
* checking package dependencies ... OK
* checking if this is a source package ... OK
* checking whether package 'HIVcDNAvantWout03' can be installed ... OK
* checking package directory ... OK
* checking for portable file names ... OK
* checking DESCRIPTION meta-information ... OK
* checking top-level files ... OK
* checking index information ... OK
* checking package subdirectories ... OK
* checking whether the package can be loaded ... OK
* checking whether the package can be loaded with stated dependencies ... OK
* checking Rd files ... OK
* checking Rd files against version 2 parser ... OK
* checking Rd cross-references ... OK
* checking for missing documentation entries ... OK
* checking for code/documentation mismatches ... OK
* checking Rd \usage sections ... OK
* checking data for non-ASCII characters ... OK
* checking examples ... OK
* checking PDF version of manual ... OK
 
* Installing *source* package 'HIVcDNAvantWout03' ...
** data
** inst
** help
*** installing help indices
 >>> Building/Updating help pages for package 'HIVcDNAvantWout03'
     Formats: text html latex example chm 
  hiv1raw                           text    html    latex           chm
  hiv2raw                           text    html    latex           chm
Microsoft HTML Help Compiler 4.74.8702
Compiling e:\biocbld\BBS-2~2.4-D\meat\HIVCDN~1.RCH\00_PKG~1\HIVCDN~1\chm\HIVcDNAvantWout03.chm
Compile time: 0 minutes, 0 seconds
3	Topics
4	Local links
2	Internet links
1	Graphic
Created e:\biocbld\BBS-2~2.4-D\meat\HIVCDN~1.RCH\00_PKG~1\HIVCDN~1\chm\HIVcDNAvantWout03.chm, 17,978 bytes
Compression increased file by 6,901 bytes.
** building package indices ...
Read 450000 items
Read 450000 items
** MD5 sums
* DONE (HIVcDNAvantWout03)