| webbioc 1.16.0 Colin A. Smith
 
 | Bioconductor Changelog |  | Snapshot Date: 2009-10-20 11:27:33 -0700 (Tue, 20 Oct 2009) |  | URL: https://hedgehog.fhcrc.org/bioconductor/branches/RELEASE_2_4/madman/Rpacks/webbioc |  | Last Changed Rev: 39013 / Revision: 42512 |  | Last Changed Date: 2009-04-20 16:24:12 -0700 (Mon, 20 Apr 2009) | 
 | wilson1 | Linux (openSUSE 11.1) / x86_64 | OK | OK |  | 
| liverpool | Windows Server 2003 R2 (32-bit) / x64 | [ OK ] | OK | OK | 
| pitt | Mac OS X Tiger (10.4.11) / i386 | OK | OK | OK | 
| pelham | Mac OS X Leopard (10.5.8) / i386 | OK | OK | OK | 
* checking for file 'webbioc/DESCRIPTION' ... OK
* preparing 'webbioc':
* checking DESCRIPTION meta-information ... OK
* installing the package to re-build vignettes
* Installing *source* package 'webbioc' ...
** R
** inst
** preparing package for lazy loading
Welcome to Bioconductor
  Vignettes contain introductory material. To view, type
  'openVignette()'. To cite Bioconductor, see
  'citation("Biobase")' and for packages 'citation(pkgname)'.
Loading required package: GO.db
Loading required package: AnnotationDbi
Loading required package: DBI
Loading required package: KEGG.db
Loading required package: Biostrings
Loading required package: IRanges
Attaching package: 'IRanges'
	The following object(s) are masked from package:base :
	 cbind,
	 duplicated,
	 order,
	 pmax,
	 pmax.int,
	 pmin,
	 pmin.int,
	 rank,
	 rbind,
	 rep.int,
	 sapply,
	 sort,
	 table,
	 unique 
Loading required package: tcltk
Loading Tcl/Tk interface ... done
** help
*** installing help indices
 >>> Building/Updating help pages for package 'webbioc'
     Formats: text html latex example chm 
  installReps                       text    html    latex           chm
  mt.wrapper                        text    html    latex           chm
Microsoft HTML Help Compiler 4.74.8702
Compiling e:\biocbld\bbs-2.4-bioc\meat\webbioc\chm\webbioc.chm
Compile time: 0 minutes, 1 second
3	Topics
4	Local links
0	Internet links
1	Graphic
Created e:\biocbld\bbs-2.4-bioc\meat\webbioc\chm\webbioc.chm, 20,158 bytes
Compression increased file by 6,538 bytes.
** building package indices ...
** MD5 sums
* DONE (webbioc)
* creating vignettes ... OK
* removing junk files
* checking for LF line-endings in source and make files
* checking for empty or unneeded directories
* building 'webbioc_1.16.0.tar.gz'