| timecourse 1.16.0 Yu Chuan Tai
 
 | Bioconductor Changelog |  | Snapshot Date: 2009-10-20 11:27:33 -0700 (Tue, 20 Oct 2009) |  | URL: https://hedgehog.fhcrc.org/bioconductor/branches/RELEASE_2_4/madman/Rpacks/timecourse |  | Last Changed Rev: 39013 / Revision: 42512 |  | Last Changed Date: 2009-04-20 16:24:12 -0700 (Mon, 20 Apr 2009) | 
 | wilson1 | Linux (openSUSE 11.1) / x86_64 | OK | OK |  | 
| liverpool | Windows Server 2003 R2 (32-bit) / x64 | OK | OK | OK | 
| pitt | Mac OS X Tiger (10.4.11) / i386 | OK | OK | [ OK ] | 
| pelham | Mac OS X Leopard (10.5.8) / i386 | OK | OK | OK | 
                INSTALLATION WITH 'R CMD INSTALL --preclean --library=timecourse.buildbin-libdir timecourse_1.16.0.tar.gz'
* Installing *source* package ‘timecourse’ ...
** R
** data
** inst
** preparing package for lazy loading
Welcome to Bioconductor
  Vignettes contain introductory material. To view, type
  'openVignette()'. To cite Bioconductor, see
  'citation("Biobase")' and for packages 'citation(pkgname)'.
** help
*** installing help indices
 >>> Building/Updating help pages for package 'timecourse'
     Formats: text html latex example 
  abs2ratio                         text    html    latex
  fruitfly                          text    html    latex
  marrayTC-class                    text    html    latex
  matrix.cov                        text    html    latex
  mb.MANOVA                         text    html    latex   example
  mb.long                           text    html    latex   example
  ot.helmert                        text    html    latex
  plotProfile                       text    html    latex
  univ.func                         text    html    latex
** building package indices ...
* DONE (timecourse)