| rtracklayer 1.4.1 Michael Lawrence
 
 | Bioconductor Changelog |  | Snapshot Date: 2009-10-20 11:27:33 -0700 (Tue, 20 Oct 2009) |  | URL: https://hedgehog.fhcrc.org/bioconductor/branches/RELEASE_2_4/madman/Rpacks/rtracklayer |  | Last Changed Rev: 40476 / Revision: 42512 |  | Last Changed Date: 2009-07-02 10:16:44 -0700 (Thu, 02 Jul 2009) | 
 | wilson1 | Linux (openSUSE 11.1) / x86_64 | [ OK ] | WARNINGS |  | 
| liverpool | Windows Server 2003 R2 (32-bit) / x64 | OK | WARNINGS | OK | 
| pitt | Mac OS X Tiger (10.4.11) / i386 | OK | WARNINGS | OK | 
| pelham | Mac OS X Leopard (10.5.8) / i386 | OK | WARNINGS | OK | 
* checking for file 'rtracklayer/DESCRIPTION' ... OK
* preparing 'rtracklayer':
* checking DESCRIPTION meta-information ... OK
* installing the package to re-build vignettes
* Installing *source* package 'rtracklayer' ...
** R
** data
** demo
** inst
** preparing package for lazy loading
Loading required package: bitops
** help
*** installing help indices
 >>> Building/Updating help pages for package 'rtracklayer'
     Formats: text html latex example 
  RangedData-methods                text    html    latex   example
  RangesList-methods                text    html    latex   example
  UCSCData-class                    text    html    latex
  UCSCTableQuery-class              text    html    latex   example
  activeView-methods                text    html    latex
  basicTrackLine-class              text    html    latex
  blocks-methods                    text    html    latex
  browseGenome                      text    html    latex   example
  browserSession-class              text    html    latex
  browserSession-methods            text    html    latex
  browserView-class                 text    html    latex
  browserView-methods               text    html    latex   example
  browserViews-methods              text    html    latex   example
  cpneTrack                         text    html    latex   example
  export                            text    html    latex   example
  export.gff                        text    html    latex   example
  genomeBrowsers                    text    html    latex
  genomeSequence-methods            text    html    latex
  import                            text    html    latex   example
  import.gff                        text    html    latex   example
  laySequence-methods               text    html    latex
  layTrack-methods                  text    html    latex   example
  targets                           text    html    latex   example
  tracks-methods                    text    html    latex
  ucscSession-class                 text    html    latex
  ucscTrackLine-class               text    html    latex
  ucscTrackModes-class              text    html    latex
  ucscTrackModes-methods            text    html    latex   example
  ucscView-class                    text    html    latex
  wigTrackLine-class                text    html    latex
** building package indices ...
* DONE (rtracklayer)
* creating vignettes ... OK
* removing junk files
* checking for LF line-endings in source and make files
* checking for empty or unneeded directories
* building 'rtracklayer_1.4.1.tar.gz'