| quantsmooth 1.10.0 Jan Oosting
 
 | Bioconductor Changelog |  | Snapshot Date: 2009-10-20 11:27:33 -0700 (Tue, 20 Oct 2009) |  | URL: https://hedgehog.fhcrc.org/bioconductor/branches/RELEASE_2_4/madman/Rpacks/quantsmooth |  | Last Changed Rev: 39013 / Revision: 42512 |  | Last Changed Date: 2009-04-20 16:24:12 -0700 (Mon, 20 Apr 2009) | 
 | wilson1 | Linux (openSUSE 11.1) / x86_64 | OK | OK |  | 
| liverpool | Windows Server 2003 R2 (32-bit) / x64 | OK | OK | OK | 
| pitt | Mac OS X Tiger (10.4.11) / i386 | OK | OK | OK | 
| pelham | Mac OS X Leopard (10.5.8) / i386 | OK | OK | [ OK ] | 
                INSTALLATION WITH 'R CMD INSTALL --preclean --library=quantsmooth.buildbin-libdir quantsmooth_1.10.0.tar.gz'
* Installing *source* package ‘quantsmooth’ ...
** R
** data
** inst
** preparing package for lazy loading
Loading required package: SparseM
Package SparseM (0.80) loaded.  
	   To cite, see citation("SparseM")
Attaching package: 'SparseM'
	The following object(s) are masked from package:stats :
	 model.response 
	The following object(s) are masked from package:base :
	 backsolve,
	 chol 
Attaching package: 'quantreg'
	The following object(s) are masked from package:utils :
	 vignette 
Loading required package: grid
** help
*** installing help indices
 >>> Building/Updating help pages for package 'quantsmooth'
     Formats: text html latex example 
  Chromosome14                      text    html    latex
  drawSimpleChrom                   text    html    latex   example
  getChangedIdx                     text    html    latex
  getChangedRegions                 text    html    latex   example
  getLambdaMin                      text    html    latex   example
  grid.chromosome                   text    html    latex   example
  lengthChromosome                  text    html    latex   example
  numericCHR                        text    html    latex   example
  paintCytobands                    text    html    latex   example
  plotChromosome                    text    html    latex
  plotSmoothed                      text    html    latex   example
  position2Cytoband                 text    html    latex   example
  prepareGenomePlot                 text    html    latex
  quantsmooth                       text    html    latex   example
  quantsmooth.cv                    text    html    latex   example
  quantsmooth.seg                   text    html    latex   example
  scaleto                           text    html    latex
** building package indices ...
* DONE (quantsmooth)