| Back to the "Multiple platform build/check report" | A B C D E F G H I J K L M N O [P] Q R S T U V W X Y Z |
| Package 237/319 | Hostname | OS / Arch | BUILD | CHECK | BUILD BIN | |||||
| puma 1.10.1 Richard Pearson
| wilson1 | Linux (openSUSE 11.1) / x86_64 | [ OK ] | OK | ||||||
| liverpool | Windows Server 2003 R2 (32-bit) / x64 | OK | OK | OK | ||||||
| pitt | Mac OS X Tiger (10.4.11) / i386 | OK | OK | OK | ||||||
| pelham | Mac OS X Leopard (10.5.8) / i386 | OK | OK | OK |
| Package: puma |
| Version: 1.10.1 |
| Command: /home/biocbuild/bbs-2.4-bioc/R/bin/R CMD build puma |
| StartedAt: 2009-10-20 14:22:49 -0700 (Tue, 20 Oct 2009) |
| EndedAt: 2009-10-20 14:22:50 -0700 (Tue, 20 Oct 2009) |
| EllapsedTime: 1.5 seconds |
| RetCode: 0 |
| Status: OK |
| PackageFile: puma_1.10.1.tar.gz |
| PackageFileSize: 3.203 MiB |
* checking for file 'puma/DESCRIPTION' ... OK * preparing 'puma': * checking DESCRIPTION meta-information ... OK * cleaning src * removing junk files * checking for LF line-endings in source and make files * checking for empty or unneeded directories * building 'puma_1.10.1.tar.gz'