| pdmclass 1.16.0 James W. MacDonald
 
 | Bioconductor Changelog |  | Snapshot Date: 2009-10-20 11:27:33 -0700 (Tue, 20 Oct 2009) |  | URL: https://hedgehog.fhcrc.org/bioconductor/branches/RELEASE_2_4/madman/Rpacks/pdmclass |  | Last Changed Rev: 39013 / Revision: 42512 |  | Last Changed Date: 2009-04-20 16:24:12 -0700 (Mon, 20 Apr 2009) | 
 | wilson1 | Linux (openSUSE 11.1) / x86_64 | OK | OK |  | 
| liverpool | Windows Server 2003 R2 (32-bit) / x64 | OK | OK | OK | 
| pitt | Mac OS X Tiger (10.4.11) / i386 | OK | OK | OK | 
| pelham | Mac OS X Leopard (10.5.8) / i386 | [ OK ] | OK | OK | 
* checking for file 'pdmclass/DESCRIPTION' ... OK
* preparing 'pdmclass':
* checking DESCRIPTION meta-information ... OK
* installing the package to re-build vignettes
* Installing *source* package ‘pdmclass’ ...
** R
** inst
** preparing package for lazy loading
Welcome to Bioconductor
  Vignettes contain introductory material. To view, type
  'openVignette()'. To cite Bioconductor, see
  'citation("Biobase")' and for packages 'citation(pkgname)'.
Loading required package: class
** help
*** installing help indices
 >>> Building/Updating help pages for package 'pdmclass'
     Formats: text html latex example 
  my.svd                            text    html    latex
  pdmClass                          text    html    latex   example
  pdmClass.cv                       text    html    latex   example
  pdmGenes                          text    html    latex   example
  pls1c                             text    html    latex
  predict.pls                       text    html    latex   example
  svdpls1c                          text    html    latex
  svdr                              text    html    latex
** building package indices ...
* DONE (pdmclass)
* creating vignettes ... OK
* removing junk files
* checking for LF line-endings in source and make files
* checking for empty or unneeded directories
* building 'pdmclass_1.16.0.tar.gz'