pamr 1.42.0 Rob Tibshirani
 | Bioconductor Changelog |  | Snapshot Date: 2009-10-20 11:27:33 -0700 (Tue, 20 Oct 2009) |  | URL: https://hedgehog.fhcrc.org/bioconductor/branches/RELEASE_2_4/madman/Rpacks/pamr |  | Last Changed Rev: 39013 / Revision: 42512 |  | Last Changed Date: 2009-04-20 16:24:12 -0700 (Mon, 20 Apr 2009) |  
  | wilson1  | Linux (openSUSE 11.1) / x86_64  |  OK  |  OK  |  | 
| liverpool  | Windows Server 2003 R2 (32-bit) / x64  | [ OK ] |  OK  |  OK  | 
| pitt  | Mac OS X Tiger (10.4.11) / i386  |  OK  |  OK  |  OK  | 
| pelham  | Mac OS X Leopard (10.5.8) / i386  |  OK  |  OK  |  OK  | 
* checking for file 'pamr/DESCRIPTION' ... OK
* preparing 'pamr':
* checking DESCRIPTION meta-information ... OK
* cleaning src
* removing junk files
* excluding invalid files from 'pamr'
Subdirectory 'man' contains invalid file names:
  internal.names
* checking for LF line-endings in source and make files
* checking for empty or unneeded directories
* building 'pamr_1.42.0.tar.gz'