| minet 1.4.0 Patrick E. Meyer
 
 | Bioconductor Changelog |  | Snapshot Date: 2009-10-20 11:27:33 -0700 (Tue, 20 Oct 2009) |  | URL: https://hedgehog.fhcrc.org/bioconductor/branches/RELEASE_2_4/madman/Rpacks/minet |  | Last Changed Rev: 39013 / Revision: 42512 |  | Last Changed Date: 2009-04-20 16:24:12 -0700 (Mon, 20 Apr 2009) | 
 | wilson1 | Linux (openSUSE 11.1) / x86_64 | OK | OK |  | 
| liverpool | Windows Server 2003 R2 (32-bit) / x64 | OK | OK | OK | 
| pitt | Mac OS X Tiger (10.4.11) / i386 | OK | OK | OK | 
| pelham | Mac OS X Leopard (10.5.8) / i386 | OK | OK | [ OK ] | 
                INSTALLATION WITH 'R CMD INSTALL --preclean --library=minet.buildbin-libdir minet_1.4.0.tar.gz'
* Installing *source* package ‘minet’ ...
** libs
** arch - i386
g++-4.0 -arch i386 -I/Library/Frameworks/R.framework/Versions/2.9/Resources/include -I/Library/Frameworks/R.framework/Versions/2.9/Resources/include/i386  -I/usr/local/include    -fPIC  -g -O2 -Wall -fasm-blocks -c aracne.cpp -o aracne.o
g++-4.0 -arch i386 -I/Library/Frameworks/R.framework/Versions/2.9/Resources/include -I/Library/Frameworks/R.framework/Versions/2.9/Resources/include/i386  -I/usr/local/include    -fPIC  -g -O2 -Wall -fasm-blocks -c clr.cpp -o clr.o
g++-4.0 -arch i386 -I/Library/Frameworks/R.framework/Versions/2.9/Resources/include -I/Library/Frameworks/R.framework/Versions/2.9/Resources/include/i386  -I/usr/local/include    -fPIC  -g -O2 -Wall -fasm-blocks -c disc.cpp -o disc.o
g++-4.0 -arch i386 -I/Library/Frameworks/R.framework/Versions/2.9/Resources/include -I/Library/Frameworks/R.framework/Versions/2.9/Resources/include/i386  -I/usr/local/include    -fPIC  -g -O2 -Wall -fasm-blocks -c mim.cpp -o mim.o
mim.cpp: In function ‘double minformation(const double*, int, int, int, int, char)’:
mim.cpp:101: warning: ‘Hij’ may be used uninitialized in this function
mim.cpp:101: warning: ‘Hj’ may be used uninitialized in this function
mim.cpp:101: warning: ‘Hi’ may be used uninitialized in this function
g++-4.0 -arch i386 -I/Library/Frameworks/R.framework/Versions/2.9/Resources/include -I/Library/Frameworks/R.framework/Versions/2.9/Resources/include/i386  -I/usr/local/include    -fPIC  -g -O2 -Wall -fasm-blocks -c minet.cpp -o minet.o
g++-4.0 -arch i386 -I/Library/Frameworks/R.framework/Versions/2.9/Resources/include -I/Library/Frameworks/R.framework/Versions/2.9/Resources/include/i386  -I/usr/local/include    -fPIC  -g -O2 -Wall -fasm-blocks -c mrnet.cpp -o mrnet.o
g++-4.0 -arch i386 -I/Library/Frameworks/R.framework/Versions/2.9/Resources/include -I/Library/Frameworks/R.framework/Versions/2.9/Resources/include/i386  -I/usr/local/include    -fPIC  -g -O2 -Wall -fasm-blocks -c symmetrize.cpp -o symmetrize.o
g++-4.0 -arch i386 -I/Library/Frameworks/R.framework/Versions/2.9/Resources/include -I/Library/Frameworks/R.framework/Versions/2.9/Resources/include/i386  -I/usr/local/include    -fPIC  -g -O2 -Wall -fasm-blocks -c validate.cpp -o validate.o
g++-4.2 -arch i386 -dynamiclib -Wl,-headerpad_max_install_names -undefined dynamic_lookup -single_module -multiply_defined suppress -L/usr/local/lib -o minet.so aracne.o clr.o disc.o mim.o minet.o mrnet.o symmetrize.o validate.o -F/Library/Frameworks/R.framework/.. -framework R -Wl,-framework -Wl,CoreFoundation
** arch - ppc
g++-4.0 -arch ppc -I/Library/Frameworks/R.framework/Versions/2.9/Resources/include -I/Library/Frameworks/R.framework/Versions/2.9/Resources/include/ppc  -I/usr/local/include    -fPIC  -g -O2 -Wall -fasm-blocks -c aracne.cpp -o aracne.o
g++-4.0 -arch ppc -I/Library/Frameworks/R.framework/Versions/2.9/Resources/include -I/Library/Frameworks/R.framework/Versions/2.9/Resources/include/ppc  -I/usr/local/include    -fPIC  -g -O2 -Wall -fasm-blocks -c clr.cpp -o clr.o
g++-4.0 -arch ppc -I/Library/Frameworks/R.framework/Versions/2.9/Resources/include -I/Library/Frameworks/R.framework/Versions/2.9/Resources/include/ppc  -I/usr/local/include    -fPIC  -g -O2 -Wall -fasm-blocks -c disc.cpp -o disc.o
g++-4.0 -arch ppc -I/Library/Frameworks/R.framework/Versions/2.9/Resources/include -I/Library/Frameworks/R.framework/Versions/2.9/Resources/include/ppc  -I/usr/local/include    -fPIC  -g -O2 -Wall -fasm-blocks -c mim.cpp -o mim.o
mim.cpp: In function ‘double minformation(const double*, int, int, int, int, char)’:
mim.cpp:101: warning: ‘Hij’ may be used uninitialized in this function
mim.cpp:101: warning: ‘Hj’ may be used uninitialized in this function
mim.cpp:101: warning: ‘Hi’ may be used uninitialized in this function
g++-4.0 -arch ppc -I/Library/Frameworks/R.framework/Versions/2.9/Resources/include -I/Library/Frameworks/R.framework/Versions/2.9/Resources/include/ppc  -I/usr/local/include    -fPIC  -g -O2 -Wall -fasm-blocks -c minet.cpp -o minet.o
g++-4.0 -arch ppc -I/Library/Frameworks/R.framework/Versions/2.9/Resources/include -I/Library/Frameworks/R.framework/Versions/2.9/Resources/include/ppc  -I/usr/local/include    -fPIC  -g -O2 -Wall -fasm-blocks -c mrnet.cpp -o mrnet.o
g++-4.0 -arch ppc -I/Library/Frameworks/R.framework/Versions/2.9/Resources/include -I/Library/Frameworks/R.framework/Versions/2.9/Resources/include/ppc  -I/usr/local/include    -fPIC  -g -O2 -Wall -fasm-blocks -c symmetrize.cpp -o symmetrize.o
g++-4.0 -arch ppc -I/Library/Frameworks/R.framework/Versions/2.9/Resources/include -I/Library/Frameworks/R.framework/Versions/2.9/Resources/include/ppc  -I/usr/local/include    -fPIC  -g -O2 -Wall -fasm-blocks -c validate.cpp -o validate.o
g++-4.2 -arch ppc -dynamiclib -Wl,-headerpad_max_install_names -undefined dynamic_lookup -single_module -multiply_defined suppress -L/usr/local/lib -o minet.so aracne.o clr.o disc.o mim.o minet.o mrnet.o symmetrize.o validate.o -F/Library/Frameworks/R.framework/.. -framework R -Wl,-framework -Wl,CoreFoundation
** arch - ppc64
g++-4.0 -arch ppc64 -I/Library/Frameworks/R.framework/Versions/2.9/Resources/include -I/Library/Frameworks/R.framework/Versions/2.9/Resources/include/ppc64  -I/usr/local/include    -fPIC  -g -O2 -Wall -fasm-blocks -c aracne.cpp -o aracne.o
g++-4.0 -arch ppc64 -I/Library/Frameworks/R.framework/Versions/2.9/Resources/include -I/Library/Frameworks/R.framework/Versions/2.9/Resources/include/ppc64  -I/usr/local/include    -fPIC  -g -O2 -Wall -fasm-blocks -c clr.cpp -o clr.o
g++-4.0 -arch ppc64 -I/Library/Frameworks/R.framework/Versions/2.9/Resources/include -I/Library/Frameworks/R.framework/Versions/2.9/Resources/include/ppc64  -I/usr/local/include    -fPIC  -g -O2 -Wall -fasm-blocks -c disc.cpp -o disc.o
g++-4.0 -arch ppc64 -I/Library/Frameworks/R.framework/Versions/2.9/Resources/include -I/Library/Frameworks/R.framework/Versions/2.9/Resources/include/ppc64  -I/usr/local/include    -fPIC  -g -O2 -Wall -fasm-blocks -c mim.cpp -o mim.o
mim.cpp: In function ‘double minformation(const double*, int, int, int, int, char)’:
mim.cpp:101: warning: ‘Hij’ may be used uninitialized in this function
mim.cpp:101: warning: ‘Hj’ may be used uninitialized in this function
mim.cpp:101: warning: ‘Hi’ may be used uninitialized in this function
g++-4.0 -arch ppc64 -I/Library/Frameworks/R.framework/Versions/2.9/Resources/include -I/Library/Frameworks/R.framework/Versions/2.9/Resources/include/ppc64  -I/usr/local/include    -fPIC  -g -O2 -Wall -fasm-blocks -c minet.cpp -o minet.o
g++-4.0 -arch ppc64 -I/Library/Frameworks/R.framework/Versions/2.9/Resources/include -I/Library/Frameworks/R.framework/Versions/2.9/Resources/include/ppc64  -I/usr/local/include    -fPIC  -g -O2 -Wall -fasm-blocks -c mrnet.cpp -o mrnet.o
g++-4.0 -arch ppc64 -I/Library/Frameworks/R.framework/Versions/2.9/Resources/include -I/Library/Frameworks/R.framework/Versions/2.9/Resources/include/ppc64  -I/usr/local/include    -fPIC  -g -O2 -Wall -fasm-blocks -c symmetrize.cpp -o symmetrize.o
g++-4.0 -arch ppc64 -I/Library/Frameworks/R.framework/Versions/2.9/Resources/include -I/Library/Frameworks/R.framework/Versions/2.9/Resources/include/ppc64  -I/usr/local/include    -fPIC  -g -O2 -Wall -fasm-blocks -c validate.cpp -o validate.o
g++-4.2 -arch ppc64 -dynamiclib -Wl,-headerpad_max_install_names -undefined dynamic_lookup -single_module -multiply_defined suppress -L/usr/local/lib -o minet.so aracne.o clr.o disc.o mim.o minet.o mrnet.o symmetrize.o validate.o -F/Library/Frameworks/R.framework/.. -framework R -Wl,-framework -Wl,CoreFoundation
** arch - x86_64
g++-4.0 -arch x86_64 -I/Library/Frameworks/R.framework/Versions/2.9/Resources/include -I/Library/Frameworks/R.framework/Versions/2.9/Resources/include/x86_64  -I/usr/local/include    -fPIC  -g -O2 -Wall -fasm-blocks -c aracne.cpp -o aracne.o
g++-4.0 -arch x86_64 -I/Library/Frameworks/R.framework/Versions/2.9/Resources/include -I/Library/Frameworks/R.framework/Versions/2.9/Resources/include/x86_64  -I/usr/local/include    -fPIC  -g -O2 -Wall -fasm-blocks -c clr.cpp -o clr.o
g++-4.0 -arch x86_64 -I/Library/Frameworks/R.framework/Versions/2.9/Resources/include -I/Library/Frameworks/R.framework/Versions/2.9/Resources/include/x86_64  -I/usr/local/include    -fPIC  -g -O2 -Wall -fasm-blocks -c disc.cpp -o disc.o
g++-4.0 -arch x86_64 -I/Library/Frameworks/R.framework/Versions/2.9/Resources/include -I/Library/Frameworks/R.framework/Versions/2.9/Resources/include/x86_64  -I/usr/local/include    -fPIC  -g -O2 -Wall -fasm-blocks -c mim.cpp -o mim.o
mim.cpp: In function ‘double minformation(const double*, int, int, int, int, char)’:
mim.cpp:101: warning: ‘Hij’ may be used uninitialized in this function
mim.cpp:101: warning: ‘Hj’ may be used uninitialized in this function
mim.cpp:101: warning: ‘Hi’ may be used uninitialized in this function
g++-4.0 -arch x86_64 -I/Library/Frameworks/R.framework/Versions/2.9/Resources/include -I/Library/Frameworks/R.framework/Versions/2.9/Resources/include/x86_64  -I/usr/local/include    -fPIC  -g -O2 -Wall -fasm-blocks -c minet.cpp -o minet.o
g++-4.0 -arch x86_64 -I/Library/Frameworks/R.framework/Versions/2.9/Resources/include -I/Library/Frameworks/R.framework/Versions/2.9/Resources/include/x86_64  -I/usr/local/include    -fPIC  -g -O2 -Wall -fasm-blocks -c mrnet.cpp -o mrnet.o
g++-4.0 -arch x86_64 -I/Library/Frameworks/R.framework/Versions/2.9/Resources/include -I/Library/Frameworks/R.framework/Versions/2.9/Resources/include/x86_64  -I/usr/local/include    -fPIC  -g -O2 -Wall -fasm-blocks -c symmetrize.cpp -o symmetrize.o
g++-4.0 -arch x86_64 -I/Library/Frameworks/R.framework/Versions/2.9/Resources/include -I/Library/Frameworks/R.framework/Versions/2.9/Resources/include/x86_64  -I/usr/local/include    -fPIC  -g -O2 -Wall -fasm-blocks -c validate.cpp -o validate.o
g++-4.2 -arch x86_64 -dynamiclib -Wl,-headerpad_max_install_names -undefined dynamic_lookup -single_module -multiply_defined suppress -L/usr/local/lib -o minet.so aracne.o clr.o disc.o mim.o minet.o mrnet.o symmetrize.o validate.o -F/Library/Frameworks/R.framework/.. -framework R -Wl,-framework -Wl,CoreFoundation
** R
** data
** demo
** inst
** preparing package for lazy loading
** help
*** installing help indices
 >>> Building/Updating help pages for package 'minet'
     Formats: text html latex example 
  aracne.net                        text    html    latex   example
  build.mim                         text    html    latex   example
  clr.net                           text    html    latex   example
  disc                              text    html    latex   example
  minet                             text    html    latex   example
  mr.net                            text    html    latex   example
  norm                              text    html    latex   example
  syn.data                          text    html    latex   example
  syn.net                           text    html    latex   example
  validate                          text    html    latex   example
  vis.res                           text    html    latex   example
** building package indices ...
* DONE (minet)