| macat 1.18.0 Joern Toedling
 
 | Bioconductor Changelog |  | Snapshot Date: 2009-10-20 11:27:33 -0700 (Tue, 20 Oct 2009) |  | URL: https://hedgehog.fhcrc.org/bioconductor/branches/RELEASE_2_4/madman/Rpacks/macat |  | Last Changed Rev: 39013 / Revision: 42512 |  | Last Changed Date: 2009-04-20 16:24:12 -0700 (Mon, 20 Apr 2009) | 
 | wilson1 | Linux (openSUSE 11.1) / x86_64 | OK | OK |  | 
| liverpool | Windows Server 2003 R2 (32-bit) / x64 | OK | OK | OK | 
| pitt | Mac OS X Tiger (10.4.11) / i386 | OK | OK | [ OK ] | 
| pelham | Mac OS X Leopard (10.5.8) / i386 | OK | OK | OK | 
                INSTALLATION WITH 'R CMD INSTALL --preclean --library=macat.buildbin-libdir macat_1.18.0.tar.gz'
* Installing *source* package ‘macat’ ...
** R
** data
** demo
** inst
** preparing package for lazy loading
Welcome to Bioconductor
  Vignettes contain introductory material. To view, type
  'openVignette()'. To cite Bioconductor, see
  'citation("Biobase")' and for packages 'citation(pkgname)'.
Loading required package: AnnotationDbi
** help
*** installing help indices
 >>> Building/Updating help pages for package 'macat'
     Formats: text html latex example 
  buildMACAT                        text    html    latex   example
  compute_sliding                   text    html    latex   example
  discreteKernelize                 text    html    latex   example
  discretize                        text    html    latex
  discretizeAll                     text    html    latex   example
  discretize_tscores                text    html    latex   example
  evalScoring                       text    html    latex   example
  evaluateParameters                text    html    latex   example
  get_results                       text    html    latex   example
  html                              text    html    latex
  kernelize                         text    html    latex   example
  kernelizeAll                      text    html    latex   example
  kernelizeToPython                 text    html    latex   example
  kernels                           text    html    latex   example
  loaddatapkg                       text    html    latex   example
  macat-internal                    text    html    latex
  plot_MACATevalScoring             text    html    latex   example
  preprocessedLoader                text    html    latex   example
  pythondata                        text    html    latex   example
  scoring                           text    html    latex   example
  stjd                              text    html    latex   example
** building package indices ...
* DONE (macat)